BEGIN:VCALENDAR
VERSION:2.0
PRODID:-//Ibis Landing Golf Club - ECPv6.15.18//NONSGML v1.0//EN
CALSCALE:GREGORIAN
METHOD:PUBLISH
X-ORIGINAL-URL:https://www.ibislandinggc.com
X-WR-CALDESC:Events for Ibis Landing Golf Club
REFRESH-INTERVAL;VALUE=DURATION:PT1H
X-Robots-Tag:noindex
X-PUBLISHED-TTL:PT1H
BEGIN:VTIMEZONE
TZID:America/New_York
BEGIN:DAYLIGHT
TZOFFSETFROM:-0500
TZOFFSETTO:-0400
TZNAME:EDT
DTSTART:20250309T070000
END:DAYLIGHT
BEGIN:STANDARD
TZOFFSETFROM:-0400
TZOFFSETTO:-0500
TZNAME:EST
DTSTART:20251102T060000
END:STANDARD
BEGIN:DAYLIGHT
TZOFFSETFROM:-0500
TZOFFSETTO:-0400
TZNAME:EDT
DTSTART:20260308T070000
END:DAYLIGHT
BEGIN:STANDARD
TZOFFSETFROM:-0400
TZOFFSETTO:-0500
TZNAME:EST
DTSTART:20261101T060000
END:STANDARD
BEGIN:DAYLIGHT
TZOFFSETFROM:-0500
TZOFFSETTO:-0400
TZNAME:EDT
DTSTART:20270314T070000
END:DAYLIGHT
BEGIN:STANDARD
TZOFFSETFROM:-0400
TZOFFSETTO:-0500
TZNAME:EST
DTSTART:20271107T060000
END:STANDARD
END:VTIMEZONE
BEGIN:VEVENT
DTSTART;TZID=America/New_York:20260421T083000
DTEND;TZID=America/New_York:20260421T110000
DTSTAMP:20260421T123729
CREATED:20260324T132613Z
LAST-MODIFIED:20260409T163606Z
UID:10000260-1776760200-1776769200@www.ibislandinggc.com
SUMMARY:9-hole Ladies Social League
DESCRIPTION:
URL:https://www.ibislandinggc.com/event/9-hole-ladies-social-league/2026-04-21/
CATEGORIES:Members Calendar
END:VEVENT
BEGIN:VEVENT
DTSTART;TZID=America/New_York:20260422T083000
DTEND;TZID=America/New_York:20260422T130000
DTSTAMP:20260421T123729
CREATED:20260324T132658Z
LAST-MODIFIED:20260324T132658Z
UID:10000192-1776846600-1776862800@www.ibislandinggc.com
SUMMARY:Men's League
DESCRIPTION:
URL:https://www.ibislandinggc.com/event/mens-league/2026-04-22/
CATEGORIES:Members Calendar
END:VEVENT
BEGIN:VEVENT
DTSTART;TZID=America/New_York:20260426T070000
DTEND;TZID=America/New_York:20260426T140000
DTSTAMP:20260421T123729
CREATED:20260324T131306Z
LAST-MODIFIED:20260324T131317Z
UID:10000131-1777186800-1777212000@www.ibislandinggc.com
SUMMARY:Big Hole Public Event 9am Shotgun
DESCRIPTION:
URL:https://www.ibislandinggc.com/event/big-hole-public-event-9am-shotgun/
CATEGORIES:Members Calendar
END:VEVENT
BEGIN:VEVENT
DTSTART;TZID=America/New_York:20260427T160000
DTEND;TZID=America/New_York:20260427T180000
DTSTAMP:20260421T123729
CREATED:20260324T132511Z
LAST-MODIFIED:20260324T132511Z
UID:10000141-1777305600-1777312800@www.ibislandinggc.com
SUMMARY:9-hole Mixed Social League
DESCRIPTION:
URL:https://www.ibislandinggc.com/event/9-hole-mixed-social-league/2026-04-27/
CATEGORIES:Members Calendar
END:VEVENT
BEGIN:VEVENT
DTSTART;TZID=America/New_York:20260428T083000
DTEND;TZID=America/New_York:20260428T110000
DTSTAMP:20260421T123729
CREATED:20260324T132613Z
LAST-MODIFIED:20260409T163606Z
UID:10000261-1777365000-1777374000@www.ibislandinggc.com
SUMMARY:9-hole Ladies Social League
DESCRIPTION:
URL:https://www.ibislandinggc.com/event/9-hole-ladies-social-league/2026-04-28/
CATEGORIES:Members Calendar
END:VEVENT
BEGIN:VEVENT
DTSTART;TZID=America/New_York:20260429T083000
DTEND;TZID=America/New_York:20260429T130000
DTSTAMP:20260421T123729
CREATED:20260324T132658Z
LAST-MODIFIED:20260324T132658Z
UID:10000193-1777451400-1777467600@www.ibislandinggc.com
SUMMARY:Men's League
DESCRIPTION:
URL:https://www.ibislandinggc.com/event/mens-league/2026-04-29/
CATEGORIES:Members Calendar
END:VEVENT
END:VCALENDAR