BEGIN:VCALENDAR
VERSION:2.0
PRODID:-//Ibis Landing Golf Club - ECPv6.15.18//NONSGML v1.0//EN
CALSCALE:GREGORIAN
METHOD:PUBLISH
X-WR-CALNAME:Ibis Landing Golf Club
X-ORIGINAL-URL:https://www.ibislandinggc.com
X-WR-CALDESC:Events for Ibis Landing Golf Club
REFRESH-INTERVAL;VALUE=DURATION:PT1H
X-Robots-Tag:noindex
X-PUBLISHED-TTL:PT1H
BEGIN:VTIMEZONE
TZID:America/New_York
BEGIN:DAYLIGHT
TZOFFSETFROM:-0500
TZOFFSETTO:-0400
TZNAME:EDT
DTSTART:20250309T070000
END:DAYLIGHT
BEGIN:STANDARD
TZOFFSETFROM:-0400
TZOFFSETTO:-0500
TZNAME:EST
DTSTART:20251102T060000
END:STANDARD
BEGIN:DAYLIGHT
TZOFFSETFROM:-0500
TZOFFSETTO:-0400
TZNAME:EDT
DTSTART:20260308T070000
END:DAYLIGHT
BEGIN:STANDARD
TZOFFSETFROM:-0400
TZOFFSETTO:-0500
TZNAME:EST
DTSTART:20261101T060000
END:STANDARD
BEGIN:DAYLIGHT
TZOFFSETFROM:-0500
TZOFFSETTO:-0400
TZNAME:EDT
DTSTART:20270314T070000
END:DAYLIGHT
BEGIN:STANDARD
TZOFFSETFROM:-0400
TZOFFSETTO:-0500
TZNAME:EST
DTSTART:20271107T060000
END:STANDARD
END:VTIMEZONE
BEGIN:VEVENT
DTSTART;TZID=America/New_York:20261004T100000
DTEND;TZID=America/New_York:20261004T143000
DTSTAMP:20260421T215547
CREATED:20260324T132750Z
LAST-MODIFIED:20260324T132750Z
UID:10000240-1791108000-1791124200@www.ibislandinggc.com
SUMMARY:Couple's League
DESCRIPTION:
URL:https://www.ibislandinggc.com/event/couples-league/2026-10-04/
CATEGORIES:Members Calendar
END:VEVENT
BEGIN:VEVENT
DTSTART;TZID=America/New_York:20261005T160000
DTEND;TZID=America/New_York:20261005T180000
DTSTAMP:20260421T215547
CREATED:20260324T132511Z
LAST-MODIFIED:20260324T132511Z
UID:10000164-1791216000-1791223200@www.ibislandinggc.com
SUMMARY:9-hole Mixed Social League
DESCRIPTION:
URL:https://www.ibislandinggc.com/event/9-hole-mixed-social-league/2026-10-05/
CATEGORIES:Members Calendar
END:VEVENT
BEGIN:VEVENT
DTSTART;TZID=America/New_York:20261006T083000
DTEND;TZID=America/New_York:20261006T110000
DTSTAMP:20260421T215547
CREATED:20260324T132613Z
LAST-MODIFIED:20260409T163606Z
UID:10000284-1791275400-1791284400@www.ibislandinggc.com
SUMMARY:9-hole Ladies Social League
DESCRIPTION:
URL:https://www.ibislandinggc.com/event/9-hole-ladies-social-league/2026-10-06/
CATEGORIES:Members Calendar
END:VEVENT
BEGIN:VEVENT
DTSTART;TZID=America/New_York:20261007T083000
DTEND;TZID=America/New_York:20261007T130000
DTSTAMP:20260421T215547
CREATED:20260324T132658Z
LAST-MODIFIED:20260324T132658Z
UID:10000216-1791361800-1791378000@www.ibislandinggc.com
SUMMARY:Men's League
DESCRIPTION:
URL:https://www.ibislandinggc.com/event/mens-league/2026-10-07/
CATEGORIES:Members Calendar
END:VEVENT
BEGIN:VEVENT
DTSTART;TZID=America/New_York:20261008T100000
DTEND;TZID=America/New_York:20261008T110000
DTSTAMP:20260421T215547
CREATED:20260324T133420Z
LAST-MODIFIED:20260324T133420Z
UID:10000252-1791453600-1791457200@www.ibislandinggc.com
SUMMARY:Ladies Clinic
DESCRIPTION:
URL:https://www.ibislandinggc.com/event/ladies-clinic-6/2026-10-08/
CATEGORIES:Members Calendar
END:VEVENT
BEGIN:VEVENT
DTSTART;TZID=America/New_York:20261011T100000
DTEND;TZID=America/New_York:20261011T143000
DTSTAMP:20260421T215547
CREATED:20260324T132750Z
LAST-MODIFIED:20260324T132750Z
UID:10000241-1791712800-1791729000@www.ibislandinggc.com
SUMMARY:Couple's League
DESCRIPTION:
URL:https://www.ibislandinggc.com/event/couples-league/2026-10-11/
CATEGORIES:Members Calendar
END:VEVENT
BEGIN:VEVENT
DTSTART;TZID=America/New_York:20261012T160000
DTEND;TZID=America/New_York:20261012T180000
DTSTAMP:20260421T215547
CREATED:20260324T132511Z
LAST-MODIFIED:20260324T132511Z
UID:10000165-1791820800-1791828000@www.ibislandinggc.com
SUMMARY:9-hole Mixed Social League
DESCRIPTION:
URL:https://www.ibislandinggc.com/event/9-hole-mixed-social-league/2026-10-12/
CATEGORIES:Members Calendar
END:VEVENT
BEGIN:VEVENT
DTSTART;TZID=America/New_York:20261013T083000
DTEND;TZID=America/New_York:20261013T110000
DTSTAMP:20260421T215547
CREATED:20260324T132613Z
LAST-MODIFIED:20260409T163606Z
UID:10000285-1791880200-1791889200@www.ibislandinggc.com
SUMMARY:9-hole Ladies Social League
DESCRIPTION:
URL:https://www.ibislandinggc.com/event/9-hole-ladies-social-league/2026-10-13/
CATEGORIES:Members Calendar
END:VEVENT
BEGIN:VEVENT
DTSTART;TZID=America/New_York:20261014T083000
DTEND;TZID=America/New_York:20261014T130000
DTSTAMP:20260421T215547
CREATED:20260324T132658Z
LAST-MODIFIED:20260324T132658Z
UID:10000217-1791966600-1791982800@www.ibislandinggc.com
SUMMARY:Men's League
DESCRIPTION:
URL:https://www.ibislandinggc.com/event/mens-league/2026-10-14/
CATEGORIES:Members Calendar
END:VEVENT
BEGIN:VEVENT
DTSTART;TZID=America/New_York:20261015T100000
DTEND;TZID=America/New_York:20261015T110000
DTSTAMP:20260421T215547
CREATED:20260324T133625Z
LAST-MODIFIED:20260324T133625Z
UID:10000259-1792058400-1792062000@www.ibislandinggc.com
SUMMARY:Men's Clinic
DESCRIPTION:
URL:https://www.ibislandinggc.com/event/mens-clinic-6/2026-10-15/
CATEGORIES:Members Calendar
END:VEVENT
END:VCALENDAR