BEGIN:VCALENDAR
VERSION:2.0
PRODID:-//Ibis Landing Golf Club - ECPv6.15.18//NONSGML v1.0//EN
CALSCALE:GREGORIAN
METHOD:PUBLISH
X-ORIGINAL-URL:https://www.ibislandinggc.com
X-WR-CALDESC:Events for Ibis Landing Golf Club
REFRESH-INTERVAL;VALUE=DURATION:PT1H
X-Robots-Tag:noindex
X-PUBLISHED-TTL:PT1H
BEGIN:VTIMEZONE
TZID:America/New_York
BEGIN:DAYLIGHT
TZOFFSETFROM:-0500
TZOFFSETTO:-0400
TZNAME:EDT
DTSTART:20240310T070000
END:DAYLIGHT
BEGIN:STANDARD
TZOFFSETFROM:-0400
TZOFFSETTO:-0500
TZNAME:EST
DTSTART:20241103T060000
END:STANDARD
BEGIN:DAYLIGHT
TZOFFSETFROM:-0500
TZOFFSETTO:-0400
TZNAME:EDT
DTSTART:20250309T070000
END:DAYLIGHT
BEGIN:STANDARD
TZOFFSETFROM:-0400
TZOFFSETTO:-0500
TZNAME:EST
DTSTART:20251102T060000
END:STANDARD
BEGIN:DAYLIGHT
TZOFFSETFROM:-0500
TZOFFSETTO:-0400
TZNAME:EDT
DTSTART:20260308T070000
END:DAYLIGHT
BEGIN:STANDARD
TZOFFSETFROM:-0400
TZOFFSETTO:-0500
TZNAME:EST
DTSTART:20261101T060000
END:STANDARD
BEGIN:DAYLIGHT
TZOFFSETFROM:-0500
TZOFFSETTO:-0400
TZNAME:EDT
DTSTART:20270314T070000
END:DAYLIGHT
BEGIN:STANDARD
TZOFFSETFROM:-0400
TZOFFSETTO:-0500
TZNAME:EST
DTSTART:20271107T060000
END:STANDARD
END:VTIMEZONE
BEGIN:VEVENT
DTSTART;TZID=America/New_York:20260203T140000
DTEND;TZID=America/New_York:20260203T170000
DTSTAMP:20260421T191354
CREATED:20251028T131440Z
LAST-MODIFIED:20251028T131440Z
UID:10000057-1770127200-1770138000@www.ibislandinggc.com
SUMMARY:Ladies Social League
DESCRIPTION:
URL:https://www.ibislandinggc.com/event/ladies-social-league/2026-02-03/
CATEGORIES:Members Calendar
END:VEVENT
BEGIN:VEVENT
DTSTART;TZID=America/New_York:20260202T140000
DTEND;TZID=America/New_York:20260202T170000
DTSTAMP:20260421T191354
CREATED:20251028T130616Z
LAST-MODIFIED:20251028T130749Z
UID:10000032-1770040800-1770051600@www.ibislandinggc.com
SUMMARY:Monday 9 Hole Mixed Social League
DESCRIPTION:
URL:https://www.ibislandinggc.com/event/monday-9-hole-mixed-social-league/2026-02-02/
CATEGORIES:Members Calendar
END:VEVENT
BEGIN:VEVENT
DTSTART;TZID=America/New_York:20260128T140000
DTEND;TZID=America/New_York:20260128T170000
DTSTAMP:20260421T191354
CREATED:20251028T131607Z
LAST-MODIFIED:20251028T131607Z
UID:10000106-1769608800-1769619600@www.ibislandinggc.com
SUMMARY:Men's League 9 Holes
DESCRIPTION:
URL:https://www.ibislandinggc.com/event/mens-league-9-holes/2026-01-28/
CATEGORIES:Members Calendar
END:VEVENT
BEGIN:VEVENT
DTSTART;TZID=America/New_York:20260128T083000
DTEND;TZID=America/New_York:20260128T133000
DTSTAMP:20260421T191354
CREATED:20251028T131532Z
LAST-MODIFIED:20251028T131532Z
UID:10000081-1769589000-1769607000@www.ibislandinggc.com
SUMMARY:Men's League 18 Holes
DESCRIPTION:
URL:https://www.ibislandinggc.com/event/mens-league-18-holes/2026-01-28/
CATEGORIES:Members Calendar
END:VEVENT
BEGIN:VEVENT
DTSTART;TZID=America/New_York:20260127T140000
DTEND;TZID=America/New_York:20260127T170000
DTSTAMP:20260421T191354
CREATED:20251028T131440Z
LAST-MODIFIED:20251028T131440Z
UID:10000056-1769522400-1769533200@www.ibislandinggc.com
SUMMARY:Ladies Social League
DESCRIPTION:
URL:https://www.ibislandinggc.com/event/ladies-social-league/2026-01-27/
CATEGORIES:Members Calendar
END:VEVENT
BEGIN:VEVENT
DTSTART;TZID=America/New_York:20260126T140000
DTEND;TZID=America/New_York:20260126T170000
DTSTAMP:20260421T191355
CREATED:20251028T130616Z
LAST-MODIFIED:20251028T130749Z
UID:10000031-1769436000-1769446800@www.ibislandinggc.com
SUMMARY:Monday 9 Hole Mixed Social League
DESCRIPTION:
URL:https://www.ibislandinggc.com/event/monday-9-hole-mixed-social-league/2026-01-26/
CATEGORIES:Members Calendar
END:VEVENT
BEGIN:VEVENT
DTSTART;TZID=America/New_York:20260122T100000
DTEND;TZID=America/New_York:20260122T110000
DTSTAMP:20260421T191355
CREATED:20251028T132818Z
LAST-MODIFIED:20251028T132818Z
UID:10000125-1769076000-1769079600@www.ibislandinggc.com
SUMMARY:Men's Clinic
DESCRIPTION:
URL:https://www.ibislandinggc.com/event/mens-clinic-3/
CATEGORIES:Members Calendar
END:VEVENT
BEGIN:VEVENT
DTSTART;TZID=America/New_York:20260121T140000
DTEND;TZID=America/New_York:20260121T170000
DTSTAMP:20260421T191355
CREATED:20251028T131607Z
LAST-MODIFIED:20251028T131607Z
UID:10000105-1769004000-1769014800@www.ibislandinggc.com
SUMMARY:Men's League 9 Holes
DESCRIPTION:
URL:https://www.ibislandinggc.com/event/mens-league-9-holes/2026-01-21/
CATEGORIES:Members Calendar
END:VEVENT
BEGIN:VEVENT
DTSTART;TZID=America/New_York:20260121T083000
DTEND;TZID=America/New_York:20260121T133000
DTSTAMP:20260421T191355
CREATED:20251028T131532Z
LAST-MODIFIED:20251028T131532Z
UID:10000080-1768984200-1769002200@www.ibislandinggc.com
SUMMARY:Men's League 18 Holes
DESCRIPTION:
URL:https://www.ibislandinggc.com/event/mens-league-18-holes/2026-01-21/
CATEGORIES:Members Calendar
END:VEVENT
BEGIN:VEVENT
DTSTART;TZID=America/New_York:20260120T140000
DTEND;TZID=America/New_York:20260120T170000
DTSTAMP:20260421T191355
CREATED:20251028T131440Z
LAST-MODIFIED:20251028T131440Z
UID:10000055-1768917600-1768928400@www.ibislandinggc.com
SUMMARY:Ladies Social League
DESCRIPTION:
URL:https://www.ibislandinggc.com/event/ladies-social-league/2026-01-20/
CATEGORIES:Members Calendar
END:VEVENT
BEGIN:VEVENT
DTSTART;TZID=America/New_York:20260119T140000
DTEND;TZID=America/New_York:20260119T170000
DTSTAMP:20260421T191355
CREATED:20251028T130616Z
LAST-MODIFIED:20251028T130749Z
UID:10000030-1768831200-1768842000@www.ibislandinggc.com
SUMMARY:Monday 9 Hole Mixed Social League
DESCRIPTION:
URL:https://www.ibislandinggc.com/event/monday-9-hole-mixed-social-league/2026-01-19/
CATEGORIES:Members Calendar
END:VEVENT
BEGIN:VEVENT
DTSTART;TZID=America/New_York:20260116T090000
DTEND;TZID=America/New_York:20260116T133000
DTSTAMP:20260421T191355
CREATED:20251023T175053Z
LAST-MODIFIED:20251028T131050Z
UID:10000011-1768554000-1768570200@www.ibislandinggc.com
SUMMARY:Individual Net Blind Draw 9am Shotgun
DESCRIPTION:
URL:https://www.ibislandinggc.com/event/individual-net-blind-draw-9am-shotgun/
CATEGORIES:Members Calendar
END:VEVENT
BEGIN:VEVENT
DTSTART;TZID=America/New_York:20260114T140000
DTEND;TZID=America/New_York:20260114T170000
DTSTAMP:20260421T191355
CREATED:20251028T131607Z
LAST-MODIFIED:20251028T131607Z
UID:10000104-1768399200-1768410000@www.ibislandinggc.com
SUMMARY:Men's League 9 Holes
DESCRIPTION:
URL:https://www.ibislandinggc.com/event/mens-league-9-holes/2026-01-14/
CATEGORIES:Members Calendar
END:VEVENT
BEGIN:VEVENT
DTSTART;TZID=America/New_York:20260114T083000
DTEND;TZID=America/New_York:20260114T133000
DTSTAMP:20260421T191355
CREATED:20251028T131532Z
LAST-MODIFIED:20251028T131532Z
UID:10000079-1768379400-1768397400@www.ibislandinggc.com
SUMMARY:Men's League 18 Holes
DESCRIPTION:
URL:https://www.ibislandinggc.com/event/mens-league-18-holes/2026-01-14/
CATEGORIES:Members Calendar
END:VEVENT
BEGIN:VEVENT
DTSTART;TZID=America/New_York:20260113T140000
DTEND;TZID=America/New_York:20260113T170000
DTSTAMP:20260421T191355
CREATED:20251028T131440Z
LAST-MODIFIED:20251028T131440Z
UID:10000054-1768312800-1768323600@www.ibislandinggc.com
SUMMARY:Ladies Social League
DESCRIPTION:
URL:https://www.ibislandinggc.com/event/ladies-social-league/2026-01-13/
CATEGORIES:Members Calendar
END:VEVENT
BEGIN:VEVENT
DTSTART;TZID=America/New_York:20260112T140000
DTEND;TZID=America/New_York:20260112T170000
DTSTAMP:20260421T191355
CREATED:20251028T130616Z
LAST-MODIFIED:20251028T130749Z
UID:10000029-1768226400-1768237200@www.ibislandinggc.com
SUMMARY:Monday 9 Hole Mixed Social League
DESCRIPTION:
URL:https://www.ibislandinggc.com/event/monday-9-hole-mixed-social-league/2026-01-12/
CATEGORIES:Members Calendar
END:VEVENT
BEGIN:VEVENT
DTSTART;TZID=America/New_York:20260108T100000
DTEND;TZID=America/New_York:20260108T110000
DTSTAMP:20260421T191355
CREATED:20251028T132230Z
LAST-MODIFIED:20251028T132230Z
UID:10000120-1767866400-1767870000@www.ibislandinggc.com
SUMMARY:Ladies Clinic
DESCRIPTION:
URL:https://www.ibislandinggc.com/event/ladies-clinic-3/
CATEGORIES:Members Calendar
END:VEVENT
BEGIN:VEVENT
DTSTART;TZID=America/New_York:20260107T140000
DTEND;TZID=America/New_York:20260107T170000
DTSTAMP:20260421T191355
CREATED:20251028T131607Z
LAST-MODIFIED:20251028T131607Z
UID:10000103-1767794400-1767805200@www.ibislandinggc.com
SUMMARY:Men's League 9 Holes
DESCRIPTION:
URL:https://www.ibislandinggc.com/event/mens-league-9-holes/2026-01-07/
CATEGORIES:Members Calendar
END:VEVENT
BEGIN:VEVENT
DTSTART;TZID=America/New_York:20260107T083000
DTEND;TZID=America/New_York:20260107T133000
DTSTAMP:20260421T191355
CREATED:20251028T131532Z
LAST-MODIFIED:20251028T131532Z
UID:10000078-1767774600-1767792600@www.ibislandinggc.com
SUMMARY:Men's League 18 Holes
DESCRIPTION:
URL:https://www.ibislandinggc.com/event/mens-league-18-holes/2026-01-07/
CATEGORIES:Members Calendar
END:VEVENT
BEGIN:VEVENT
DTSTART;TZID=America/New_York:20260106T140000
DTEND;TZID=America/New_York:20260106T170000
DTSTAMP:20260421T191355
CREATED:20251028T131440Z
LAST-MODIFIED:20251028T131440Z
UID:10000053-1767708000-1767718800@www.ibislandinggc.com
SUMMARY:Ladies Social League
DESCRIPTION:
URL:https://www.ibislandinggc.com/event/ladies-social-league/2026-01-06/
CATEGORIES:Members Calendar
END:VEVENT
BEGIN:VEVENT
DTSTART;TZID=America/New_York:20260105T140000
DTEND;TZID=America/New_York:20260105T170000
DTSTAMP:20260421T191355
CREATED:20251028T130616Z
LAST-MODIFIED:20251028T130749Z
UID:10000028-1767621600-1767632400@www.ibislandinggc.com
SUMMARY:Monday 9 Hole Mixed Social League
DESCRIPTION:
URL:https://www.ibislandinggc.com/event/monday-9-hole-mixed-social-league/2026-01-05/
CATEGORIES:Members Calendar
END:VEVENT
BEGIN:VEVENT
DTSTART;TZID=America/New_York:20260104T100000
DTEND;TZID=America/New_York:20260104T140000
DTSTAMP:20260421T191355
CREATED:20251023T174617Z
LAST-MODIFIED:20251028T131105Z
UID:10000006-1767520800-1767535200@www.ibislandinggc.com
SUMMARY:FSGA 2 Day Event 10:15am Front/Back Start
DESCRIPTION:
URL:https://www.ibislandinggc.com/event/fsga-2-day-event-1015am-front-back-start-2/
CATEGORIES:Members Calendar
END:VEVENT
BEGIN:VEVENT
DTSTART;TZID=America/New_York:20260103T100000
DTEND;TZID=America/New_York:20260103T140000
DTSTAMP:20260421T191355
CREATED:20251023T174556Z
LAST-MODIFIED:20251028T131122Z
UID:10000005-1767434400-1767448800@www.ibislandinggc.com
SUMMARY:FSGA 2 Day Event 10:15am Front/Back Start
DESCRIPTION:
URL:https://www.ibislandinggc.com/event/fsga-2-day-event-1015am-front-back-start/
CATEGORIES:Members Calendar
END:VEVENT
BEGIN:VEVENT
DTSTART;TZID=America/New_York:20260101T090000
DTEND;TZID=America/New_York:20260101T133000
DTSTAMP:20260421T191355
CREATED:20251023T174955Z
LAST-MODIFIED:20251028T131143Z
UID:10000010-1767258000-1767274200@www.ibislandinggc.com
SUMMARY:New Year's Day Scramble 9am Shotgun
DESCRIPTION:
URL:https://www.ibislandinggc.com/event/new-years-day-scramble-9am-shotgun/
CATEGORIES:Members Calendar
END:VEVENT
BEGIN:VEVENT
DTSTART;TZID=America/New_York:20251231T140000
DTEND;TZID=America/New_York:20251231T170000
DTSTAMP:20260421T191355
CREATED:20251028T131607Z
LAST-MODIFIED:20251028T131607Z
UID:10000102-1767189600-1767200400@www.ibislandinggc.com
SUMMARY:Men's League 9 Holes
DESCRIPTION:
URL:https://www.ibislandinggc.com/event/mens-league-9-holes/2025-12-31/
CATEGORIES:Members Calendar
END:VEVENT
BEGIN:VEVENT
DTSTART;TZID=America/New_York:20251231T083000
DTEND;TZID=America/New_York:20251231T133000
DTSTAMP:20260421T191355
CREATED:20251028T131532Z
LAST-MODIFIED:20251028T131532Z
UID:10000077-1767169800-1767187800@www.ibislandinggc.com
SUMMARY:Men's League 18 Holes
DESCRIPTION:
URL:https://www.ibislandinggc.com/event/mens-league-18-holes/2025-12-31/
CATEGORIES:Members Calendar
END:VEVENT
BEGIN:VEVENT
DTSTART;TZID=America/New_York:20251230T140000
DTEND;TZID=America/New_York:20251230T170000
DTSTAMP:20260421T191355
CREATED:20251028T131440Z
LAST-MODIFIED:20251028T131440Z
UID:10000052-1767103200-1767114000@www.ibislandinggc.com
SUMMARY:Ladies Social League
DESCRIPTION:
URL:https://www.ibislandinggc.com/event/ladies-social-league/2025-12-30/
CATEGORIES:Members Calendar
END:VEVENT
BEGIN:VEVENT
DTSTART;TZID=America/New_York:20251229T140000
DTEND;TZID=America/New_York:20251229T170000
DTSTAMP:20260421T191355
CREATED:20251028T130616Z
LAST-MODIFIED:20251028T130749Z
UID:10000027-1767016800-1767027600@www.ibislandinggc.com
SUMMARY:Monday 9 Hole Mixed Social League
DESCRIPTION:
URL:https://www.ibislandinggc.com/event/monday-9-hole-mixed-social-league/2025-12-29/
CATEGORIES:Members Calendar
END:VEVENT
BEGIN:VEVENT
DTSTART;VALUE=DATE:20251225
DTEND;VALUE=DATE:20251226
DTSTAMP:20260421T191355
CREATED:20251023T174400Z
LAST-MODIFIED:20251028T131200Z
UID:10000004-1766620800-1766707199@www.ibislandinggc.com
SUMMARY:Christmas Day Golf Course Closed
DESCRIPTION:
URL:https://www.ibislandinggc.com/event/christmas-day-golf-course-closed/
CATEGORIES:Members Calendar
END:VEVENT
BEGIN:VEVENT
DTSTART;TZID=America/New_York:20251224T140000
DTEND;TZID=America/New_York:20251224T170000
DTSTAMP:20260421T191355
CREATED:20251028T131607Z
LAST-MODIFIED:20251028T131607Z
UID:10000101-1766584800-1766595600@www.ibislandinggc.com
SUMMARY:Men's League 9 Holes
DESCRIPTION:
URL:https://www.ibislandinggc.com/event/mens-league-9-holes/2025-12-24/
CATEGORIES:Members Calendar
END:VEVENT
END:VCALENDAR