BEGIN:VCALENDAR
VERSION:2.0
PRODID:-//Ibis Landing Golf Club - ECPv6.15.18//NONSGML v1.0//EN
CALSCALE:GREGORIAN
METHOD:PUBLISH
X-ORIGINAL-URL:https://www.ibislandinggc.com
X-WR-CALDESC:Events for Ibis Landing Golf Club
REFRESH-INTERVAL;VALUE=DURATION:PT1H
X-Robots-Tag:noindex
X-PUBLISHED-TTL:PT1H
BEGIN:VTIMEZONE
TZID:America/New_York
BEGIN:DAYLIGHT
TZOFFSETFROM:-0500
TZOFFSETTO:-0400
TZNAME:EDT
DTSTART:20250309T070000
END:DAYLIGHT
BEGIN:STANDARD
TZOFFSETFROM:-0400
TZOFFSETTO:-0500
TZNAME:EST
DTSTART:20251102T060000
END:STANDARD
BEGIN:DAYLIGHT
TZOFFSETFROM:-0500
TZOFFSETTO:-0400
TZNAME:EDT
DTSTART:20260308T070000
END:DAYLIGHT
BEGIN:STANDARD
TZOFFSETFROM:-0400
TZOFFSETTO:-0500
TZNAME:EST
DTSTART:20261101T060000
END:STANDARD
BEGIN:DAYLIGHT
TZOFFSETFROM:-0500
TZOFFSETTO:-0400
TZNAME:EDT
DTSTART:20270314T070000
END:DAYLIGHT
BEGIN:STANDARD
TZOFFSETFROM:-0400
TZOFFSETTO:-0500
TZNAME:EST
DTSTART:20271107T060000
END:STANDARD
END:VTIMEZONE
BEGIN:VEVENT
DTSTART;TZID=America/New_York:20260624T083000
DTEND;TZID=America/New_York:20260624T130000
DTSTAMP:20260421T201548
CREATED:20260324T132658Z
LAST-MODIFIED:20260324T132658Z
UID:10000201-1782289800-1782306000@www.ibislandinggc.com
SUMMARY:Men's League
DESCRIPTION:
URL:https://www.ibislandinggc.com/event/mens-league/2026-06-24/
CATEGORIES:Members Calendar
END:VEVENT
BEGIN:VEVENT
DTSTART;TZID=America/New_York:20260628T100000
DTEND;TZID=America/New_York:20260628T143000
DTSTAMP:20260421T201548
CREATED:20260324T132750Z
LAST-MODIFIED:20260324T132750Z
UID:10000226-1782640800-1782657000@www.ibislandinggc.com
SUMMARY:Couple's League
DESCRIPTION:
URL:https://www.ibislandinggc.com/event/couples-league/2026-06-28/
CATEGORIES:Members Calendar
END:VEVENT
BEGIN:VEVENT
DTSTART;TZID=America/New_York:20260629T160000
DTEND;TZID=America/New_York:20260629T180000
DTSTAMP:20260421T201548
CREATED:20260324T132511Z
LAST-MODIFIED:20260324T132511Z
UID:10000150-1782748800-1782756000@www.ibislandinggc.com
SUMMARY:9-hole Mixed Social League
DESCRIPTION:
URL:https://www.ibislandinggc.com/event/9-hole-mixed-social-league/2026-06-29/
CATEGORIES:Members Calendar
END:VEVENT
BEGIN:VEVENT
DTSTART;TZID=America/New_York:20260630T083000
DTEND;TZID=America/New_York:20260630T110000
DTSTAMP:20260421T201548
CREATED:20260324T132613Z
LAST-MODIFIED:20260409T163606Z
UID:10000270-1782808200-1782817200@www.ibislandinggc.com
SUMMARY:9-hole Ladies Social League
DESCRIPTION:
URL:https://www.ibislandinggc.com/event/9-hole-ladies-social-league/2026-06-30/
CATEGORIES:Members Calendar
END:VEVENT
BEGIN:VEVENT
DTSTART;TZID=America/New_York:20260701T083000
DTEND;TZID=America/New_York:20260701T130000
DTSTAMP:20260421T201548
CREATED:20260324T132658Z
LAST-MODIFIED:20260324T132658Z
UID:10000202-1782894600-1782910800@www.ibislandinggc.com
SUMMARY:Men's League
DESCRIPTION:
URL:https://www.ibislandinggc.com/event/mens-league/2026-07-01/
CATEGORIES:Members Calendar
END:VEVENT
BEGIN:VEVENT
DTSTART;TZID=America/New_York:20260702T100000
DTEND;TZID=America/New_York:20260702T110000
DTSTAMP:20260421T201548
CREATED:20260324T133420Z
LAST-MODIFIED:20260324T133420Z
UID:10000249-1782986400-1782990000@www.ibislandinggc.com
SUMMARY:Ladies Clinic
DESCRIPTION:
URL:https://www.ibislandinggc.com/event/ladies-clinic-6/2026-07-02/
CATEGORIES:Members Calendar
END:VEVENT
BEGIN:VEVENT
DTSTART;TZID=America/New_York:20260704T090000
DTEND;TZID=America/New_York:20260704T133000
DTSTAMP:20260421T201548
CREATED:20260324T132135Z
LAST-MODIFIED:20260324T132135Z
UID:10000138-1783155600-1783171800@www.ibislandinggc.com
SUMMARY:Independence Day Scramble 9am Shotgun
DESCRIPTION:
URL:https://www.ibislandinggc.com/event/independence-day-scramble-9am-shotgun/
CATEGORIES:Members Calendar
END:VEVENT
BEGIN:VEVENT
DTSTART;TZID=America/New_York:20260705T100000
DTEND;TZID=America/New_York:20260705T143000
DTSTAMP:20260421T201548
CREATED:20260324T132750Z
LAST-MODIFIED:20260324T132750Z
UID:10000227-1783245600-1783261800@www.ibislandinggc.com
SUMMARY:Couple's League
DESCRIPTION:
URL:https://www.ibislandinggc.com/event/couples-league/2026-07-05/
CATEGORIES:Members Calendar
END:VEVENT
BEGIN:VEVENT
DTSTART;TZID=America/New_York:20260706T160000
DTEND;TZID=America/New_York:20260706T180000
DTSTAMP:20260421T201548
CREATED:20260324T132511Z
LAST-MODIFIED:20260324T132511Z
UID:10000151-1783353600-1783360800@www.ibislandinggc.com
SUMMARY:9-hole Mixed Social League
DESCRIPTION:
URL:https://www.ibislandinggc.com/event/9-hole-mixed-social-league/2026-07-06/
CATEGORIES:Members Calendar
END:VEVENT
BEGIN:VEVENT
DTSTART;TZID=America/New_York:20260707T083000
DTEND;TZID=America/New_York:20260707T110000
DTSTAMP:20260421T201548
CREATED:20260324T132613Z
LAST-MODIFIED:20260409T163606Z
UID:10000271-1783413000-1783422000@www.ibislandinggc.com
SUMMARY:9-hole Ladies Social League
DESCRIPTION:
URL:https://www.ibislandinggc.com/event/9-hole-ladies-social-league/2026-07-07/
CATEGORIES:Members Calendar
END:VEVENT
BEGIN:VEVENT
DTSTART;TZID=America/New_York:20260708T083000
DTEND;TZID=America/New_York:20260708T130000
DTSTAMP:20260421T201548
CREATED:20260324T132658Z
LAST-MODIFIED:20260324T132658Z
UID:10000203-1783499400-1783515600@www.ibislandinggc.com
SUMMARY:Men's League
DESCRIPTION:
URL:https://www.ibislandinggc.com/event/mens-league/2026-07-08/
CATEGORIES:Members Calendar
END:VEVENT
BEGIN:VEVENT
DTSTART;TZID=America/New_York:20260709T100000
DTEND;TZID=America/New_York:20260709T110000
DTSTAMP:20260421T201548
CREATED:20260324T133625Z
LAST-MODIFIED:20260324T133625Z
UID:10000256-1783591200-1783594800@www.ibislandinggc.com
SUMMARY:Men's Clinic
DESCRIPTION:
URL:https://www.ibislandinggc.com/event/mens-clinic-6/2026-07-09/
CATEGORIES:Members Calendar
END:VEVENT
BEGIN:VEVENT
DTSTART;TZID=America/New_York:20260712T100000
DTEND;TZID=America/New_York:20260712T143000
DTSTAMP:20260421T201548
CREATED:20260324T132750Z
LAST-MODIFIED:20260324T132750Z
UID:10000228-1783850400-1783866600@www.ibislandinggc.com
SUMMARY:Couple's League
DESCRIPTION:
URL:https://www.ibislandinggc.com/event/couples-league/2026-07-12/
CATEGORIES:Members Calendar
END:VEVENT
BEGIN:VEVENT
DTSTART;VALUE=DATE:20260713
DTEND;VALUE=DATE:20260720
DTSTAMP:20260421T201548
CREATED:20260324T133052Z
LAST-MODIFIED:20260324T133052Z
UID:10000244-1783900800-1784505599@www.ibislandinggc.com
SUMMARY:Maintenance Course Closed
DESCRIPTION:
URL:https://www.ibislandinggc.com/event/maintenance-course-closed-2/
CATEGORIES:Members Calendar
END:VEVENT
BEGIN:VEVENT
DTSTART;TZID=America/New_York:20260713T160000
DTEND;TZID=America/New_York:20260713T180000
DTSTAMP:20260421T201548
CREATED:20260324T132511Z
LAST-MODIFIED:20260324T132511Z
UID:10000152-1783958400-1783965600@www.ibislandinggc.com
SUMMARY:9-hole Mixed Social League
DESCRIPTION:
URL:https://www.ibislandinggc.com/event/9-hole-mixed-social-league/2026-07-13/
CATEGORIES:Members Calendar
END:VEVENT
BEGIN:VEVENT
DTSTART;TZID=America/New_York:20260714T083000
DTEND;TZID=America/New_York:20260714T110000
DTSTAMP:20260421T201548
CREATED:20260324T132613Z
LAST-MODIFIED:20260409T163606Z
UID:10000272-1784017800-1784026800@www.ibislandinggc.com
SUMMARY:9-hole Ladies Social League
DESCRIPTION:
URL:https://www.ibislandinggc.com/event/9-hole-ladies-social-league/2026-07-14/
CATEGORIES:Members Calendar
END:VEVENT
BEGIN:VEVENT
DTSTART;TZID=America/New_York:20260715T083000
DTEND;TZID=America/New_York:20260715T130000
DTSTAMP:20260421T201548
CREATED:20260324T132658Z
LAST-MODIFIED:20260324T132658Z
UID:10000204-1784104200-1784120400@www.ibislandinggc.com
SUMMARY:Men's League
DESCRIPTION:
URL:https://www.ibislandinggc.com/event/mens-league/2026-07-15/
CATEGORIES:Members Calendar
END:VEVENT
BEGIN:VEVENT
DTSTART;TZID=America/New_York:20260719T100000
DTEND;TZID=America/New_York:20260719T143000
DTSTAMP:20260421T201548
CREATED:20260324T132750Z
LAST-MODIFIED:20260324T132750Z
UID:10000229-1784455200-1784471400@www.ibislandinggc.com
SUMMARY:Couple's League
DESCRIPTION:
URL:https://www.ibislandinggc.com/event/couples-league/2026-07-19/
CATEGORIES:Members Calendar
END:VEVENT
BEGIN:VEVENT
DTSTART;TZID=America/New_York:20260720T160000
DTEND;TZID=America/New_York:20260720T180000
DTSTAMP:20260421T201548
CREATED:20260324T132511Z
LAST-MODIFIED:20260324T132511Z
UID:10000153-1784563200-1784570400@www.ibislandinggc.com
SUMMARY:9-hole Mixed Social League
DESCRIPTION:
URL:https://www.ibislandinggc.com/event/9-hole-mixed-social-league/2026-07-20/
CATEGORIES:Members Calendar
END:VEVENT
BEGIN:VEVENT
DTSTART;TZID=America/New_York:20260721T083000
DTEND;TZID=America/New_York:20260721T110000
DTSTAMP:20260421T201548
CREATED:20260324T132613Z
LAST-MODIFIED:20260409T163606Z
UID:10000273-1784622600-1784631600@www.ibislandinggc.com
SUMMARY:9-hole Ladies Social League
DESCRIPTION:
URL:https://www.ibislandinggc.com/event/9-hole-ladies-social-league/2026-07-21/
CATEGORIES:Members Calendar
END:VEVENT
BEGIN:VEVENT
DTSTART;TZID=America/New_York:20260722T083000
DTEND;TZID=America/New_York:20260722T130000
DTSTAMP:20260421T201548
CREATED:20260324T132658Z
LAST-MODIFIED:20260324T132658Z
UID:10000205-1784709000-1784725200@www.ibislandinggc.com
SUMMARY:Men's League
DESCRIPTION:
URL:https://www.ibislandinggc.com/event/mens-league/2026-07-22/
CATEGORIES:Members Calendar
END:VEVENT
BEGIN:VEVENT
DTSTART;TZID=America/New_York:20260726T100000
DTEND;TZID=America/New_York:20260726T143000
DTSTAMP:20260421T201548
CREATED:20260324T132750Z
LAST-MODIFIED:20260324T132750Z
UID:10000230-1785060000-1785076200@www.ibislandinggc.com
SUMMARY:Couple's League
DESCRIPTION:
URL:https://www.ibislandinggc.com/event/couples-league/2026-07-26/
CATEGORIES:Members Calendar
END:VEVENT
BEGIN:VEVENT
DTSTART;TZID=America/New_York:20260727T160000
DTEND;TZID=America/New_York:20260727T180000
DTSTAMP:20260421T201548
CREATED:20260324T132511Z
LAST-MODIFIED:20260324T132511Z
UID:10000154-1785168000-1785175200@www.ibislandinggc.com
SUMMARY:9-hole Mixed Social League
DESCRIPTION:
URL:https://www.ibislandinggc.com/event/9-hole-mixed-social-league/2026-07-27/
CATEGORIES:Members Calendar
END:VEVENT
BEGIN:VEVENT
DTSTART;TZID=America/New_York:20260728T083000
DTEND;TZID=America/New_York:20260728T110000
DTSTAMP:20260421T201548
CREATED:20260324T132613Z
LAST-MODIFIED:20260409T163606Z
UID:10000274-1785227400-1785236400@www.ibislandinggc.com
SUMMARY:9-hole Ladies Social League
DESCRIPTION:
URL:https://www.ibislandinggc.com/event/9-hole-ladies-social-league/2026-07-28/
CATEGORIES:Members Calendar
END:VEVENT
BEGIN:VEVENT
DTSTART;TZID=America/New_York:20260729T083000
DTEND;TZID=America/New_York:20260729T130000
DTSTAMP:20260421T201548
CREATED:20260324T132658Z
LAST-MODIFIED:20260324T132658Z
UID:10000206-1785313800-1785330000@www.ibislandinggc.com
SUMMARY:Men's League
DESCRIPTION:
URL:https://www.ibislandinggc.com/event/mens-league/2026-07-29/
CATEGORIES:Members Calendar
END:VEVENT
BEGIN:VEVENT
DTSTART;TZID=America/New_York:20260802T100000
DTEND;TZID=America/New_York:20260802T143000
DTSTAMP:20260421T201548
CREATED:20260324T132750Z
LAST-MODIFIED:20260324T132750Z
UID:10000231-1785664800-1785681000@www.ibislandinggc.com
SUMMARY:Couple's League
DESCRIPTION:
URL:https://www.ibislandinggc.com/event/couples-league/2026-08-02/
CATEGORIES:Members Calendar
END:VEVENT
BEGIN:VEVENT
DTSTART;TZID=America/New_York:20260803T160000
DTEND;TZID=America/New_York:20260803T180000
DTSTAMP:20260421T201548
CREATED:20260324T132511Z
LAST-MODIFIED:20260324T132511Z
UID:10000155-1785772800-1785780000@www.ibislandinggc.com
SUMMARY:9-hole Mixed Social League
DESCRIPTION:
URL:https://www.ibislandinggc.com/event/9-hole-mixed-social-league/2026-08-03/
CATEGORIES:Members Calendar
END:VEVENT
BEGIN:VEVENT
DTSTART;TZID=America/New_York:20260804T083000
DTEND;TZID=America/New_York:20260804T110000
DTSTAMP:20260421T201548
CREATED:20260324T132613Z
LAST-MODIFIED:20260409T163606Z
UID:10000275-1785832200-1785841200@www.ibislandinggc.com
SUMMARY:9-hole Ladies Social League
DESCRIPTION:
URL:https://www.ibislandinggc.com/event/9-hole-ladies-social-league/2026-08-04/
CATEGORIES:Members Calendar
END:VEVENT
BEGIN:VEVENT
DTSTART;TZID=America/New_York:20260805T083000
DTEND;TZID=America/New_York:20260805T130000
DTSTAMP:20260421T201548
CREATED:20260324T132658Z
LAST-MODIFIED:20260324T132658Z
UID:10000207-1785918600-1785934800@www.ibislandinggc.com
SUMMARY:Men's League
DESCRIPTION:
URL:https://www.ibislandinggc.com/event/mens-league/2026-08-05/
CATEGORIES:Members Calendar
END:VEVENT
BEGIN:VEVENT
DTSTART;TZID=America/New_York:20260806T100000
DTEND;TZID=America/New_York:20260806T110000
DTSTAMP:20260421T201548
CREATED:20260324T133420Z
LAST-MODIFIED:20260324T133420Z
UID:10000250-1786010400-1786014000@www.ibislandinggc.com
SUMMARY:Ladies Clinic
DESCRIPTION:
URL:https://www.ibislandinggc.com/event/ladies-clinic-6/2026-08-06/
CATEGORIES:Members Calendar
END:VEVENT
END:VCALENDAR