BEGIN:VCALENDAR
VERSION:2.0
PRODID:-//Ibis Landing Golf Club - ECPv6.15.18//NONSGML v1.0//EN
CALSCALE:GREGORIAN
METHOD:PUBLISH
X-WR-CALNAME:Ibis Landing Golf Club
X-ORIGINAL-URL:https://www.ibislandinggc.com
X-WR-CALDESC:Events for Ibis Landing Golf Club
REFRESH-INTERVAL;VALUE=DURATION:PT1H
X-Robots-Tag:noindex
X-PUBLISHED-TTL:PT1H
BEGIN:VTIMEZONE
TZID:America/New_York
BEGIN:DAYLIGHT
TZOFFSETFROM:-0500
TZOFFSETTO:-0400
TZNAME:EDT
DTSTART:20250309T070000
END:DAYLIGHT
BEGIN:STANDARD
TZOFFSETFROM:-0400
TZOFFSETTO:-0500
TZNAME:EST
DTSTART:20251102T060000
END:STANDARD
BEGIN:DAYLIGHT
TZOFFSETFROM:-0500
TZOFFSETTO:-0400
TZNAME:EDT
DTSTART:20260308T070000
END:DAYLIGHT
BEGIN:STANDARD
TZOFFSETFROM:-0400
TZOFFSETTO:-0500
TZNAME:EST
DTSTART:20261101T060000
END:STANDARD
BEGIN:DAYLIGHT
TZOFFSETFROM:-0500
TZOFFSETTO:-0400
TZNAME:EDT
DTSTART:20270314T070000
END:DAYLIGHT
BEGIN:STANDARD
TZOFFSETFROM:-0400
TZOFFSETTO:-0500
TZNAME:EST
DTSTART:20271107T060000
END:STANDARD
END:VTIMEZONE
BEGIN:VEVENT
DTSTART;TZID=America/New_York:20260323T140000
DTEND;TZID=America/New_York:20260323T170000
DTSTAMP:20260421T205225
CREATED:20251028T130616Z
LAST-MODIFIED:20251028T130749Z
UID:10000039-1774274400-1774285200@www.ibislandinggc.com
SUMMARY:Monday 9 Hole Mixed Social League
DESCRIPTION:
URL:https://www.ibislandinggc.com/event/monday-9-hole-mixed-social-league/2026-03-23/
CATEGORIES:Members Calendar
END:VEVENT
BEGIN:VEVENT
DTSTART;TZID=America/New_York:20260319T100000
DTEND;TZID=America/New_York:20260319T110000
DTSTAMP:20260421T205225
CREATED:20251028T132908Z
LAST-MODIFIED:20251028T132908Z
UID:10000127-1773914400-1773918000@www.ibislandinggc.com
SUMMARY:Men's Clinic
DESCRIPTION:
URL:https://www.ibislandinggc.com/event/mens-clinic-5/
CATEGORIES:Members Calendar
END:VEVENT
BEGIN:VEVENT
DTSTART;TZID=America/New_York:20260318T140000
DTEND;TZID=America/New_York:20260318T170000
DTSTAMP:20260421T205225
CREATED:20251028T131607Z
LAST-MODIFIED:20251028T131607Z
UID:10000113-1773842400-1773853200@www.ibislandinggc.com
SUMMARY:Men's League 9 Holes
DESCRIPTION:
URL:https://www.ibislandinggc.com/event/mens-league-9-holes/2026-03-18/
CATEGORIES:Members Calendar
END:VEVENT
BEGIN:VEVENT
DTSTART;TZID=America/New_York:20260318T083000
DTEND;TZID=America/New_York:20260318T133000
DTSTAMP:20260421T205225
CREATED:20251028T131532Z
LAST-MODIFIED:20251028T131532Z
UID:10000088-1773822600-1773840600@www.ibislandinggc.com
SUMMARY:Men's League 18 Holes
DESCRIPTION:
URL:https://www.ibislandinggc.com/event/mens-league-18-holes/2026-03-18/
CATEGORIES:Members Calendar
END:VEVENT
BEGIN:VEVENT
DTSTART;TZID=America/New_York:20260317T170000
DTEND;TZID=America/New_York:20260317T190000
DTSTAMP:20260421T205225
CREATED:20251023T184614Z
LAST-MODIFIED:20251028T130951Z
UID:10000015-1773766800-1773774000@www.ibislandinggc.com
SUMMARY:St. Patrick's Day Nine and Dine 5pm Shotgun
DESCRIPTION:
URL:https://www.ibislandinggc.com/event/st-patricks-day-nine-and-dine-5pm-shotgun/
CATEGORIES:Members Calendar
END:VEVENT
BEGIN:VEVENT
DTSTART;TZID=America/New_York:20260317T140000
DTEND;TZID=America/New_York:20260317T170000
DTSTAMP:20260421T205225
CREATED:20251028T131440Z
LAST-MODIFIED:20251028T131440Z
UID:10000063-1773756000-1773766800@www.ibislandinggc.com
SUMMARY:Ladies Social League
DESCRIPTION:
URL:https://www.ibislandinggc.com/event/ladies-social-league/2026-03-17/
CATEGORIES:Members Calendar
END:VEVENT
BEGIN:VEVENT
DTSTART;TZID=America/New_York:20260316T140000
DTEND;TZID=America/New_York:20260316T170000
DTSTAMP:20260421T205225
CREATED:20251028T130616Z
LAST-MODIFIED:20251028T130749Z
UID:10000038-1773669600-1773680400@www.ibislandinggc.com
SUMMARY:Monday 9 Hole Mixed Social League
DESCRIPTION:
URL:https://www.ibislandinggc.com/event/monday-9-hole-mixed-social-league/2026-03-16/
CATEGORIES:Members Calendar
END:VEVENT
BEGIN:VEVENT
DTSTART;TZID=America/New_York:20260312T100000
DTEND;TZID=America/New_York:20260312T110000
DTSTAMP:20260421T205225
CREATED:20251028T132553Z
LAST-MODIFIED:20251028T132553Z
UID:10000122-1773309600-1773313200@www.ibislandinggc.com
SUMMARY:Ladies Clinic
DESCRIPTION:
URL:https://www.ibislandinggc.com/event/ladies-clinic-5/
CATEGORIES:Members Calendar
END:VEVENT
BEGIN:VEVENT
DTSTART;TZID=America/New_York:20260311T140000
DTEND;TZID=America/New_York:20260311T170000
DTSTAMP:20260421T205225
CREATED:20251028T131607Z
LAST-MODIFIED:20251028T131607Z
UID:10000112-1773237600-1773248400@www.ibislandinggc.com
SUMMARY:Men's League 9 Holes
DESCRIPTION:
URL:https://www.ibislandinggc.com/event/mens-league-9-holes/2026-03-11/
CATEGORIES:Members Calendar
END:VEVENT
BEGIN:VEVENT
DTSTART;TZID=America/New_York:20260311T083000
DTEND;TZID=America/New_York:20260311T133000
DTSTAMP:20260421T205225
CREATED:20251028T131532Z
LAST-MODIFIED:20251028T131532Z
UID:10000087-1773217800-1773235800@www.ibislandinggc.com
SUMMARY:Men's League 18 Holes
DESCRIPTION:
URL:https://www.ibislandinggc.com/event/mens-league-18-holes/2026-03-11/
CATEGORIES:Members Calendar
END:VEVENT
BEGIN:VEVENT
DTSTART;TZID=America/New_York:20260310T140000
DTEND;TZID=America/New_York:20260310T170000
DTSTAMP:20260421T205225
CREATED:20251028T131440Z
LAST-MODIFIED:20251028T131440Z
UID:10000062-1773151200-1773162000@www.ibislandinggc.com
SUMMARY:Ladies Social League
DESCRIPTION:
URL:https://www.ibislandinggc.com/event/ladies-social-league/2026-03-10/
CATEGORIES:Members Calendar
END:VEVENT
BEGIN:VEVENT
DTSTART;TZID=America/New_York:20260309T140000
DTEND;TZID=America/New_York:20260309T170000
DTSTAMP:20260421T205225
CREATED:20251028T130616Z
LAST-MODIFIED:20251028T130749Z
UID:10000037-1773064800-1773075600@www.ibislandinggc.com
SUMMARY:Monday 9 Hole Mixed Social League
DESCRIPTION:
URL:https://www.ibislandinggc.com/event/monday-9-hole-mixed-social-league/2026-03-09/
CATEGORIES:Members Calendar
END:VEVENT
BEGIN:VEVENT
DTSTART;TZID=America/New_York:20260304T140000
DTEND;TZID=America/New_York:20260304T170000
DTSTAMP:20260421T205225
CREATED:20251028T131607Z
LAST-MODIFIED:20251028T131607Z
UID:10000111-1772632800-1772643600@www.ibislandinggc.com
SUMMARY:Men's League 9 Holes
DESCRIPTION:
URL:https://www.ibislandinggc.com/event/mens-league-9-holes/2026-03-04/
CATEGORIES:Members Calendar
END:VEVENT
BEGIN:VEVENT
DTSTART;TZID=America/New_York:20260304T083000
DTEND;TZID=America/New_York:20260304T133000
DTSTAMP:20260421T205225
CREATED:20251028T131532Z
LAST-MODIFIED:20251028T131532Z
UID:10000086-1772613000-1772631000@www.ibislandinggc.com
SUMMARY:Men's League 18 Holes
DESCRIPTION:
URL:https://www.ibislandinggc.com/event/mens-league-18-holes/2026-03-04/
CATEGORIES:Members Calendar
END:VEVENT
BEGIN:VEVENT
DTSTART;TZID=America/New_York:20260303T140000
DTEND;TZID=America/New_York:20260303T170000
DTSTAMP:20260421T205225
CREATED:20251028T131440Z
LAST-MODIFIED:20251028T131440Z
UID:10000061-1772546400-1772557200@www.ibislandinggc.com
SUMMARY:Ladies Social League
DESCRIPTION:
URL:https://www.ibislandinggc.com/event/ladies-social-league/2026-03-03/
CATEGORIES:Members Calendar
END:VEVENT
BEGIN:VEVENT
DTSTART;TZID=America/New_York:20260302T140000
DTEND;TZID=America/New_York:20260302T170000
DTSTAMP:20260421T205225
CREATED:20251028T130616Z
LAST-MODIFIED:20251028T130749Z
UID:10000036-1772460000-1772470800@www.ibislandinggc.com
SUMMARY:Monday 9 Hole Mixed Social League
DESCRIPTION:
URL:https://www.ibislandinggc.com/event/monday-9-hole-mixed-social-league/2026-03-02/
CATEGORIES:Members Calendar
END:VEVENT
BEGIN:VEVENT
DTSTART;TZID=America/New_York:20260227T090000
DTEND;TZID=America/New_York:20260227T130000
DTSTAMP:20260421T205225
CREATED:20251023T184537Z
LAST-MODIFIED:20251028T131006Z
UID:10000014-1772182800-1772197200@www.ibislandinggc.com
SUMMARY:Step Aside 4-player Scramble 9am Shotgun
DESCRIPTION:
URL:https://www.ibislandinggc.com/event/step-aside-4-player-scramble-9am-shotgun/
CATEGORIES:Members Calendar
END:VEVENT
BEGIN:VEVENT
DTSTART;TZID=America/New_York:20260226T100000
DTEND;TZID=America/New_York:20260226T110000
DTSTAMP:20260421T205225
CREATED:20251028T132841Z
LAST-MODIFIED:20251028T132841Z
UID:10000126-1772100000-1772103600@www.ibislandinggc.com
SUMMARY:Men's Clinic
DESCRIPTION:
URL:https://www.ibislandinggc.com/event/mens-clinic-4/
CATEGORIES:Members Calendar
END:VEVENT
BEGIN:VEVENT
DTSTART;TZID=America/New_York:20260225T140000
DTEND;TZID=America/New_York:20260225T170000
DTSTAMP:20260421T205225
CREATED:20251028T131607Z
LAST-MODIFIED:20251028T131607Z
UID:10000110-1772028000-1772038800@www.ibislandinggc.com
SUMMARY:Men's League 9 Holes
DESCRIPTION:
URL:https://www.ibislandinggc.com/event/mens-league-9-holes/2026-02-25/
CATEGORIES:Members Calendar
END:VEVENT
BEGIN:VEVENT
DTSTART;TZID=America/New_York:20260225T083000
DTEND;TZID=America/New_York:20260225T133000
DTSTAMP:20260421T205225
CREATED:20251028T131532Z
LAST-MODIFIED:20251028T131532Z
UID:10000085-1772008200-1772026200@www.ibislandinggc.com
SUMMARY:Men's League 18 Holes
DESCRIPTION:
URL:https://www.ibislandinggc.com/event/mens-league-18-holes/2026-02-25/
CATEGORIES:Members Calendar
END:VEVENT
BEGIN:VEVENT
DTSTART;TZID=America/New_York:20260224T140000
DTEND;TZID=America/New_York:20260224T170000
DTSTAMP:20260421T205225
CREATED:20251028T131440Z
LAST-MODIFIED:20251028T131440Z
UID:10000060-1771941600-1771952400@www.ibislandinggc.com
SUMMARY:Ladies Social League
DESCRIPTION:
URL:https://www.ibislandinggc.com/event/ladies-social-league/2026-02-24/
CATEGORIES:Members Calendar
END:VEVENT
BEGIN:VEVENT
DTSTART;TZID=America/New_York:20260223T140000
DTEND;TZID=America/New_York:20260223T170000
DTSTAMP:20260421T205225
CREATED:20251028T130616Z
LAST-MODIFIED:20251028T130749Z
UID:10000035-1771855200-1771866000@www.ibislandinggc.com
SUMMARY:Monday 9 Hole Mixed Social League
DESCRIPTION:
URL:https://www.ibislandinggc.com/event/monday-9-hole-mixed-social-league/2026-02-23/
CATEGORIES:Members Calendar
END:VEVENT
BEGIN:VEVENT
DTSTART;TZID=America/New_York:20260218T140000
DTEND;TZID=America/New_York:20260218T170000
DTSTAMP:20260421T205225
CREATED:20251028T131607Z
LAST-MODIFIED:20251028T131607Z
UID:10000109-1771423200-1771434000@www.ibislandinggc.com
SUMMARY:Men's League 9 Holes
DESCRIPTION:
URL:https://www.ibislandinggc.com/event/mens-league-9-holes/2026-02-18/
CATEGORIES:Members Calendar
END:VEVENT
BEGIN:VEVENT
DTSTART;TZID=America/New_York:20260218T083000
DTEND;TZID=America/New_York:20260218T133000
DTSTAMP:20260421T205225
CREATED:20251028T131532Z
LAST-MODIFIED:20251028T131532Z
UID:10000084-1771403400-1771421400@www.ibislandinggc.com
SUMMARY:Men's League 18 Holes
DESCRIPTION:
URL:https://www.ibislandinggc.com/event/mens-league-18-holes/2026-02-18/
CATEGORIES:Members Calendar
END:VEVENT
BEGIN:VEVENT
DTSTART;TZID=America/New_York:20260217T140000
DTEND;TZID=America/New_York:20260217T170000
DTSTAMP:20260421T205225
CREATED:20251028T131440Z
LAST-MODIFIED:20251028T131440Z
UID:10000059-1771336800-1771347600@www.ibislandinggc.com
SUMMARY:Ladies Social League
DESCRIPTION:
URL:https://www.ibislandinggc.com/event/ladies-social-league/2026-02-17/
CATEGORIES:Members Calendar
END:VEVENT
BEGIN:VEVENT
DTSTART;TZID=America/New_York:20260217T090000
DTEND;TZID=America/New_York:20260217T133000
DTSTAMP:20260421T205225
CREATED:20251023T175252Z
LAST-MODIFIED:20251028T131021Z
UID:10000013-1771318800-1771335000@www.ibislandinggc.com
SUMMARY:Fat Tuesday Fall Back Scramble 9am Shotgun
DESCRIPTION:
URL:https://www.ibislandinggc.com/event/fat-tuesday-fall-back-scramble-9am-shotgun/
CATEGORIES:Members Calendar
END:VEVENT
BEGIN:VEVENT
DTSTART;TZID=America/New_York:20260216T140000
DTEND;TZID=America/New_York:20260216T170000
DTSTAMP:20260421T205225
CREATED:20251028T130616Z
LAST-MODIFIED:20251028T130749Z
UID:10000034-1771250400-1771261200@www.ibislandinggc.com
SUMMARY:Monday 9 Hole Mixed Social League
DESCRIPTION:
URL:https://www.ibislandinggc.com/event/monday-9-hole-mixed-social-league/2026-02-16/
CATEGORIES:Members Calendar
END:VEVENT
BEGIN:VEVENT
DTSTART;TZID=America/New_York:20260212T100000
DTEND;TZID=America/New_York:20260212T110000
DTSTAMP:20260421T205225
CREATED:20251028T132518Z
LAST-MODIFIED:20251028T132518Z
UID:10000121-1770890400-1770894000@www.ibislandinggc.com
SUMMARY:Ladies Clinic
DESCRIPTION:
URL:https://www.ibislandinggc.com/event/ladies-clinic-4/
CATEGORIES:Members Calendar
END:VEVENT
BEGIN:VEVENT
DTSTART;TZID=America/New_York:20260211T140000
DTEND;TZID=America/New_York:20260211T170000
DTSTAMP:20260421T205225
CREATED:20251028T131607Z
LAST-MODIFIED:20251028T131607Z
UID:10000108-1770818400-1770829200@www.ibislandinggc.com
SUMMARY:Men's League 9 Holes
DESCRIPTION:
URL:https://www.ibislandinggc.com/event/mens-league-9-holes/2026-02-11/
CATEGORIES:Members Calendar
END:VEVENT
BEGIN:VEVENT
DTSTART;TZID=America/New_York:20260211T083000
DTEND;TZID=America/New_York:20260211T133000
DTSTAMP:20260421T205225
CREATED:20251028T131532Z
LAST-MODIFIED:20251028T131532Z
UID:10000083-1770798600-1770816600@www.ibislandinggc.com
SUMMARY:Men's League 18 Holes
DESCRIPTION:
URL:https://www.ibislandinggc.com/event/mens-league-18-holes/2026-02-11/
CATEGORIES:Members Calendar
END:VEVENT
END:VCALENDAR