BEGIN:VCALENDAR
VERSION:2.0
PRODID:-//Ibis Landing Golf Club - ECPv6.15.18//NONSGML v1.0//EN
CALSCALE:GREGORIAN
METHOD:PUBLISH
X-WR-CALNAME:Ibis Landing Golf Club
X-ORIGINAL-URL:https://www.ibislandinggc.com
X-WR-CALDESC:Events for Ibis Landing Golf Club
REFRESH-INTERVAL;VALUE=DURATION:PT1H
X-Robots-Tag:noindex
X-PUBLISHED-TTL:PT1H
BEGIN:VTIMEZONE
TZID:America/New_York
BEGIN:DAYLIGHT
TZOFFSETFROM:-0500
TZOFFSETTO:-0400
TZNAME:EDT
DTSTART:20240310T070000
END:DAYLIGHT
BEGIN:STANDARD
TZOFFSETFROM:-0400
TZOFFSETTO:-0500
TZNAME:EST
DTSTART:20241103T060000
END:STANDARD
BEGIN:DAYLIGHT
TZOFFSETFROM:-0500
TZOFFSETTO:-0400
TZNAME:EDT
DTSTART:20250309T070000
END:DAYLIGHT
BEGIN:STANDARD
TZOFFSETFROM:-0400
TZOFFSETTO:-0500
TZNAME:EST
DTSTART:20251102T060000
END:STANDARD
BEGIN:DAYLIGHT
TZOFFSETFROM:-0500
TZOFFSETTO:-0400
TZNAME:EDT
DTSTART:20260308T070000
END:DAYLIGHT
BEGIN:STANDARD
TZOFFSETFROM:-0400
TZOFFSETTO:-0500
TZNAME:EST
DTSTART:20261101T060000
END:STANDARD
END:VTIMEZONE
BEGIN:VEVENT
DTSTART;TZID=America/New_York:20251117T140000
DTEND;TZID=America/New_York:20251117T170000
DTSTAMP:20260423T181759
CREATED:20251028T130616Z
LAST-MODIFIED:20251028T130749Z
UID:10000021-1763388000-1763398800@www.ibislandinggc.com
SUMMARY:Monday 9 Hole Mixed Social League
DESCRIPTION:
URL:https://www.ibislandinggc.com/event/monday-9-hole-mixed-social-league/2025-11-17/
CATEGORIES:Members Calendar
END:VEVENT
BEGIN:VEVENT
DTSTART;TZID=America/New_York:20251113T100000
DTEND;TZID=America/New_York:20251113T110000
DTSTAMP:20260423T181759
CREATED:20251028T132135Z
LAST-MODIFIED:20251028T132135Z
UID:10000118-1763028000-1763031600@www.ibislandinggc.com
SUMMARY:Ladies Clinic
DESCRIPTION:
URL:https://www.ibislandinggc.com/event/ladies-clinic/
CATEGORIES:Members Calendar
END:VEVENT
BEGIN:VEVENT
DTSTART;TZID=America/New_York:20251112T140000
DTEND;TZID=America/New_York:20251112T170000
DTSTAMP:20260423T181759
CREATED:20251028T131607Z
LAST-MODIFIED:20251028T131607Z
UID:10000095-1762956000-1762966800@www.ibislandinggc.com
SUMMARY:Men's League 9 Holes
DESCRIPTION:
URL:https://www.ibislandinggc.com/event/mens-league-9-holes/2025-11-12/
CATEGORIES:Members Calendar
END:VEVENT
BEGIN:VEVENT
DTSTART;TZID=America/New_York:20251112T083000
DTEND;TZID=America/New_York:20251112T133000
DTSTAMP:20260423T181759
CREATED:20251028T131532Z
LAST-MODIFIED:20251028T131532Z
UID:10000070-1762936200-1762954200@www.ibislandinggc.com
SUMMARY:Men's League 18 Holes
DESCRIPTION:
URL:https://www.ibislandinggc.com/event/mens-league-18-holes/2025-11-12/
CATEGORIES:Members Calendar
END:VEVENT
BEGIN:VEVENT
DTSTART;TZID=America/New_York:20251111T140000
DTEND;TZID=America/New_York:20251111T170000
DTSTAMP:20260423T181759
CREATED:20251028T131440Z
LAST-MODIFIED:20251028T131440Z
UID:10000045-1762869600-1762880400@www.ibislandinggc.com
SUMMARY:Ladies Social League
DESCRIPTION:
URL:https://www.ibislandinggc.com/event/ladies-social-league/2025-11-11/
CATEGORIES:Members Calendar
END:VEVENT
BEGIN:VEVENT
DTSTART;TZID=America/New_York:20251110T140000
DTEND;TZID=America/New_York:20251110T170000
DTSTAMP:20260423T181759
CREATED:20251028T130616Z
LAST-MODIFIED:20251028T130749Z
UID:10000020-1762783200-1762794000@www.ibislandinggc.com
SUMMARY:Monday 9 Hole Mixed Social League
DESCRIPTION:
URL:https://www.ibislandinggc.com/event/monday-9-hole-mixed-social-league/2025-11-10/
CATEGORIES:Members Calendar
END:VEVENT
BEGIN:VEVENT
DTSTART;TZID=America/New_York:20251105T140000
DTEND;TZID=America/New_York:20251105T170000
DTSTAMP:20260423T181759
CREATED:20251028T131607Z
LAST-MODIFIED:20251028T131607Z
UID:10000094-1762351200-1762362000@www.ibislandinggc.com
SUMMARY:Men's League 9 Holes
DESCRIPTION:
URL:https://www.ibislandinggc.com/event/mens-league-9-holes/2025-11-05/
CATEGORIES:Members Calendar
END:VEVENT
BEGIN:VEVENT
DTSTART;TZID=America/New_York:20251105T083000
DTEND;TZID=America/New_York:20251105T133000
DTSTAMP:20260423T181759
CREATED:20251028T131532Z
LAST-MODIFIED:20251028T131532Z
UID:10000069-1762331400-1762349400@www.ibislandinggc.com
SUMMARY:Men's League 18 Holes
DESCRIPTION:
URL:https://www.ibislandinggc.com/event/mens-league-18-holes/2025-11-05/
CATEGORIES:Members Calendar
END:VEVENT
BEGIN:VEVENT
DTSTART;TZID=America/New_York:20251104T140000
DTEND;TZID=America/New_York:20251104T170000
DTSTAMP:20260423T181759
CREATED:20251028T131440Z
LAST-MODIFIED:20251028T131440Z
UID:10000044-1762264800-1762275600@www.ibislandinggc.com
SUMMARY:Ladies Social League
DESCRIPTION:
URL:https://www.ibislandinggc.com/event/ladies-social-league/2025-11-04/
CATEGORIES:Members Calendar
END:VEVENT
BEGIN:VEVENT
DTSTART;TZID=America/New_York:20251103T140000
DTEND;TZID=America/New_York:20251103T170000
DTSTAMP:20260423T181759
CREATED:20251028T130616Z
LAST-MODIFIED:20251028T130749Z
UID:10000019-1762178400-1762189200@www.ibislandinggc.com
SUMMARY:Monday 9 Hole Mixed Social League
DESCRIPTION:
URL:https://www.ibislandinggc.com/event/monday-9-hole-mixed-social-league/2025-11-03/
CATEGORIES:Members Calendar
END:VEVENT
BEGIN:VEVENT
DTSTART;TZID=America/New_York:20251029T140000
DTEND;TZID=America/New_York:20251029T170000
DTSTAMP:20260423T181759
CREATED:20251028T131607Z
LAST-MODIFIED:20251028T131607Z
UID:10000093-1761746400-1761757200@www.ibislandinggc.com
SUMMARY:Men's League 9 Holes
DESCRIPTION:
URL:https://www.ibislandinggc.com/event/mens-league-9-holes/2025-10-29/
CATEGORIES:Members Calendar
END:VEVENT
BEGIN:VEVENT
DTSTART;TZID=America/New_York:20251029T083000
DTEND;TZID=America/New_York:20251029T133000
DTSTAMP:20260423T181759
CREATED:20251028T131532Z
LAST-MODIFIED:20251028T131532Z
UID:10000068-1761726600-1761744600@www.ibislandinggc.com
SUMMARY:Men's League 18 Holes
DESCRIPTION:
URL:https://www.ibislandinggc.com/event/mens-league-18-holes/2025-10-29/
CATEGORIES:Members Calendar
END:VEVENT
BEGIN:VEVENT
DTSTART;TZID=America/New_York:20251028T140000
DTEND;TZID=America/New_York:20251028T170000
DTSTAMP:20260423T181759
CREATED:20251028T131440Z
LAST-MODIFIED:20251028T131440Z
UID:10000043-1761660000-1761670800@www.ibislandinggc.com
SUMMARY:Ladies Social League
DESCRIPTION:
URL:https://www.ibislandinggc.com/event/ladies-social-league/2025-10-28/
CATEGORIES:Members Calendar
END:VEVENT
BEGIN:VEVENT
DTSTART;TZID=America/New_York:20251028T130000
DTEND;TZID=America/New_York:20251028T170000
DTSTAMP:20260423T181759
CREATED:20251023T151343Z
LAST-MODIFIED:20251023T151451Z
UID:10000001-1761656400-1761670800@www.ibislandinggc.com
SUMMARY:High School Girls Outing 1pm Shotgun
DESCRIPTION:
URL:https://www.ibislandinggc.com/event/high-school-girls-outing/
CATEGORIES:Members Calendar
END:VEVENT
BEGIN:VEVENT
DTSTART;TZID=America/New_York:20251024T163000
DTEND;TZID=America/New_York:20251024T183000
DTSTAMP:20260423T181759
CREATED:20251023T174733Z
LAST-MODIFIED:20251028T131341Z
UID:10000007-1761323400-1761330600@www.ibislandinggc.com
SUMMARY:Halloween Nine and Dine 4:30pm Shotgun
DESCRIPTION:
URL:https://www.ibislandinggc.com/event/halloween-nine-and-dine-430pm-shotgun/
CATEGORIES:Members Calendar
END:VEVENT
END:VCALENDAR