BEGIN:VCALENDAR
VERSION:2.0
PRODID:-//Ibis Landing Golf Club - ECPv6.15.18//NONSGML v1.0//EN
CALSCALE:GREGORIAN
METHOD:PUBLISH
X-ORIGINAL-URL:https://www.ibislandinggc.com
X-WR-CALDESC:Events for Ibis Landing Golf Club
REFRESH-INTERVAL;VALUE=DURATION:PT1H
X-Robots-Tag:noindex
X-PUBLISHED-TTL:PT1H
BEGIN:VTIMEZONE
TZID:America/New_York
BEGIN:DAYLIGHT
TZOFFSETFROM:-0500
TZOFFSETTO:-0400
TZNAME:EDT
DTSTART:20250309T070000
END:DAYLIGHT
BEGIN:STANDARD
TZOFFSETFROM:-0400
TZOFFSETTO:-0500
TZNAME:EST
DTSTART:20251102T060000
END:STANDARD
BEGIN:DAYLIGHT
TZOFFSETFROM:-0500
TZOFFSETTO:-0400
TZNAME:EDT
DTSTART:20260308T070000
END:DAYLIGHT
BEGIN:STANDARD
TZOFFSETFROM:-0400
TZOFFSETTO:-0500
TZNAME:EST
DTSTART:20261101T060000
END:STANDARD
BEGIN:DAYLIGHT
TZOFFSETFROM:-0500
TZOFFSETTO:-0400
TZNAME:EDT
DTSTART:20270314T070000
END:DAYLIGHT
BEGIN:STANDARD
TZOFFSETFROM:-0400
TZOFFSETTO:-0500
TZNAME:EST
DTSTART:20271107T060000
END:STANDARD
END:VTIMEZONE
BEGIN:VEVENT
DTSTART;TZID=America/New_York:20260428T083000
DTEND;TZID=America/New_York:20260428T110000
DTSTAMP:20260423T045242
CREATED:20260324T132613Z
LAST-MODIFIED:20260409T163606Z
UID:10000261-1777365000-1777374000@www.ibislandinggc.com
SUMMARY:9-hole Ladies Social League
DESCRIPTION:
URL:https://www.ibislandinggc.com/event/9-hole-ladies-social-league/2026-04-28/
CATEGORIES:Members Calendar
END:VEVENT
BEGIN:VEVENT
DTSTART;TZID=America/New_York:20260505T083000
DTEND;TZID=America/New_York:20260505T110000
DTSTAMP:20260423T045242
CREATED:20260324T132613Z
LAST-MODIFIED:20260409T163606Z
UID:10000262-1777969800-1777978800@www.ibislandinggc.com
SUMMARY:9-hole Ladies Social League
DESCRIPTION:
URL:https://www.ibislandinggc.com/event/9-hole-ladies-social-league/2026-05-05/
CATEGORIES:Members Calendar
END:VEVENT
BEGIN:VEVENT
DTSTART;TZID=America/New_York:20260512T083000
DTEND;TZID=America/New_York:20260512T110000
DTSTAMP:20260423T045242
CREATED:20260324T132613Z
LAST-MODIFIED:20260409T163606Z
UID:10000263-1778574600-1778583600@www.ibislandinggc.com
SUMMARY:9-hole Ladies Social League
DESCRIPTION:
URL:https://www.ibislandinggc.com/event/9-hole-ladies-social-league/2026-05-12/
CATEGORIES:Members Calendar
END:VEVENT
BEGIN:VEVENT
DTSTART;TZID=America/New_York:20260519T083000
DTEND;TZID=America/New_York:20260519T110000
DTSTAMP:20260423T045242
CREATED:20260324T132613Z
LAST-MODIFIED:20260409T163606Z
UID:10000264-1779179400-1779188400@www.ibislandinggc.com
SUMMARY:9-hole Ladies Social League
DESCRIPTION:
URL:https://www.ibislandinggc.com/event/9-hole-ladies-social-league/2026-05-19/
CATEGORIES:Members Calendar
END:VEVENT
BEGIN:VEVENT
DTSTART;TZID=America/New_York:20260526T083000
DTEND;TZID=America/New_York:20260526T110000
DTSTAMP:20260423T045242
CREATED:20260324T132613Z
LAST-MODIFIED:20260409T163606Z
UID:10000265-1779784200-1779793200@www.ibislandinggc.com
SUMMARY:9-hole Ladies Social League
DESCRIPTION:
URL:https://www.ibislandinggc.com/event/9-hole-ladies-social-league/2026-05-26/
CATEGORIES:Members Calendar
END:VEVENT
BEGIN:VEVENT
DTSTART;TZID=America/New_York:20260602T083000
DTEND;TZID=America/New_York:20260602T110000
DTSTAMP:20260423T045242
CREATED:20260324T132613Z
LAST-MODIFIED:20260409T163606Z
UID:10000266-1780389000-1780398000@www.ibislandinggc.com
SUMMARY:9-hole Ladies Social League
DESCRIPTION:
URL:https://www.ibislandinggc.com/event/9-hole-ladies-social-league/2026-06-02/
CATEGORIES:Members Calendar
END:VEVENT
BEGIN:VEVENT
DTSTART;TZID=America/New_York:20260609T083000
DTEND;TZID=America/New_York:20260609T110000
DTSTAMP:20260423T045242
CREATED:20260324T132613Z
LAST-MODIFIED:20260409T163606Z
UID:10000267-1780993800-1781002800@www.ibislandinggc.com
SUMMARY:9-hole Ladies Social League
DESCRIPTION:
URL:https://www.ibislandinggc.com/event/9-hole-ladies-social-league/2026-06-09/
CATEGORIES:Members Calendar
END:VEVENT
BEGIN:VEVENT
DTSTART;TZID=America/New_York:20260616T083000
DTEND;TZID=America/New_York:20260616T110000
DTSTAMP:20260423T045242
CREATED:20260324T132613Z
LAST-MODIFIED:20260409T163606Z
UID:10000268-1781598600-1781607600@www.ibislandinggc.com
SUMMARY:9-hole Ladies Social League
DESCRIPTION:
URL:https://www.ibislandinggc.com/event/9-hole-ladies-social-league/2026-06-16/
CATEGORIES:Members Calendar
END:VEVENT
BEGIN:VEVENT
DTSTART;TZID=America/New_York:20260623T083000
DTEND;TZID=America/New_York:20260623T110000
DTSTAMP:20260423T045242
CREATED:20260324T132613Z
LAST-MODIFIED:20260409T163606Z
UID:10000269-1782203400-1782212400@www.ibislandinggc.com
SUMMARY:9-hole Ladies Social League
DESCRIPTION:
URL:https://www.ibislandinggc.com/event/9-hole-ladies-social-league/2026-06-23/
CATEGORIES:Members Calendar
END:VEVENT
BEGIN:VEVENT
DTSTART;TZID=America/New_York:20260630T083000
DTEND;TZID=America/New_York:20260630T110000
DTSTAMP:20260423T045242
CREATED:20260324T132613Z
LAST-MODIFIED:20260409T163606Z
UID:10000270-1782808200-1782817200@www.ibislandinggc.com
SUMMARY:9-hole Ladies Social League
DESCRIPTION:
URL:https://www.ibislandinggc.com/event/9-hole-ladies-social-league/2026-06-30/
CATEGORIES:Members Calendar
END:VEVENT
BEGIN:VEVENT
DTSTART;TZID=America/New_York:20260707T083000
DTEND;TZID=America/New_York:20260707T110000
DTSTAMP:20260423T045242
CREATED:20260324T132613Z
LAST-MODIFIED:20260409T163606Z
UID:10000271-1783413000-1783422000@www.ibislandinggc.com
SUMMARY:9-hole Ladies Social League
DESCRIPTION:
URL:https://www.ibislandinggc.com/event/9-hole-ladies-social-league/2026-07-07/
CATEGORIES:Members Calendar
END:VEVENT
BEGIN:VEVENT
DTSTART;TZID=America/New_York:20260714T083000
DTEND;TZID=America/New_York:20260714T110000
DTSTAMP:20260423T045242
CREATED:20260324T132613Z
LAST-MODIFIED:20260409T163606Z
UID:10000272-1784017800-1784026800@www.ibislandinggc.com
SUMMARY:9-hole Ladies Social League
DESCRIPTION:
URL:https://www.ibislandinggc.com/event/9-hole-ladies-social-league/2026-07-14/
CATEGORIES:Members Calendar
END:VEVENT
BEGIN:VEVENT
DTSTART;TZID=America/New_York:20260721T083000
DTEND;TZID=America/New_York:20260721T110000
DTSTAMP:20260423T045242
CREATED:20260324T132613Z
LAST-MODIFIED:20260409T163606Z
UID:10000273-1784622600-1784631600@www.ibislandinggc.com
SUMMARY:9-hole Ladies Social League
DESCRIPTION:
URL:https://www.ibislandinggc.com/event/9-hole-ladies-social-league/2026-07-21/
CATEGORIES:Members Calendar
END:VEVENT
BEGIN:VEVENT
DTSTART;TZID=America/New_York:20260728T083000
DTEND;TZID=America/New_York:20260728T110000
DTSTAMP:20260423T045242
CREATED:20260324T132613Z
LAST-MODIFIED:20260409T163606Z
UID:10000274-1785227400-1785236400@www.ibislandinggc.com
SUMMARY:9-hole Ladies Social League
DESCRIPTION:
URL:https://www.ibislandinggc.com/event/9-hole-ladies-social-league/2026-07-28/
CATEGORIES:Members Calendar
END:VEVENT
BEGIN:VEVENT
DTSTART;TZID=America/New_York:20260804T083000
DTEND;TZID=America/New_York:20260804T110000
DTSTAMP:20260423T045242
CREATED:20260324T132613Z
LAST-MODIFIED:20260409T163606Z
UID:10000275-1785832200-1785841200@www.ibislandinggc.com
SUMMARY:9-hole Ladies Social League
DESCRIPTION:
URL:https://www.ibislandinggc.com/event/9-hole-ladies-social-league/2026-08-04/
CATEGORIES:Members Calendar
END:VEVENT
BEGIN:VEVENT
DTSTART;TZID=America/New_York:20260811T083000
DTEND;TZID=America/New_York:20260811T110000
DTSTAMP:20260423T045242
CREATED:20260324T132613Z
LAST-MODIFIED:20260409T163606Z
UID:10000276-1786437000-1786446000@www.ibislandinggc.com
SUMMARY:9-hole Ladies Social League
DESCRIPTION:
URL:https://www.ibislandinggc.com/event/9-hole-ladies-social-league/2026-08-11/
CATEGORIES:Members Calendar
END:VEVENT
BEGIN:VEVENT
DTSTART;TZID=America/New_York:20260818T083000
DTEND;TZID=America/New_York:20260818T110000
DTSTAMP:20260423T045242
CREATED:20260324T132613Z
LAST-MODIFIED:20260409T163606Z
UID:10000277-1787041800-1787050800@www.ibislandinggc.com
SUMMARY:9-hole Ladies Social League
DESCRIPTION:
URL:https://www.ibislandinggc.com/event/9-hole-ladies-social-league/2026-08-18/
CATEGORIES:Members Calendar
END:VEVENT
BEGIN:VEVENT
DTSTART;TZID=America/New_York:20260825T083000
DTEND;TZID=America/New_York:20260825T110000
DTSTAMP:20260423T045242
CREATED:20260324T132613Z
LAST-MODIFIED:20260409T163606Z
UID:10000278-1787646600-1787655600@www.ibislandinggc.com
SUMMARY:9-hole Ladies Social League
DESCRIPTION:
URL:https://www.ibislandinggc.com/event/9-hole-ladies-social-league/2026-08-25/
CATEGORIES:Members Calendar
END:VEVENT
BEGIN:VEVENT
DTSTART;TZID=America/New_York:20260901T083000
DTEND;TZID=America/New_York:20260901T110000
DTSTAMP:20260423T045242
CREATED:20260324T132613Z
LAST-MODIFIED:20260409T163606Z
UID:10000279-1788251400-1788260400@www.ibislandinggc.com
SUMMARY:9-hole Ladies Social League
DESCRIPTION:
URL:https://www.ibislandinggc.com/event/9-hole-ladies-social-league/2026-09-01/
CATEGORIES:Members Calendar
END:VEVENT
BEGIN:VEVENT
DTSTART;TZID=America/New_York:20260908T083000
DTEND;TZID=America/New_York:20260908T110000
DTSTAMP:20260423T045242
CREATED:20260324T132613Z
LAST-MODIFIED:20260409T163606Z
UID:10000280-1788856200-1788865200@www.ibislandinggc.com
SUMMARY:9-hole Ladies Social League
DESCRIPTION:
URL:https://www.ibislandinggc.com/event/9-hole-ladies-social-league/2026-09-08/
CATEGORIES:Members Calendar
END:VEVENT
BEGIN:VEVENT
DTSTART;TZID=America/New_York:20260915T083000
DTEND;TZID=America/New_York:20260915T110000
DTSTAMP:20260423T045242
CREATED:20260324T132613Z
LAST-MODIFIED:20260409T163606Z
UID:10000281-1789461000-1789470000@www.ibislandinggc.com
SUMMARY:9-hole Ladies Social League
DESCRIPTION:
URL:https://www.ibislandinggc.com/event/9-hole-ladies-social-league/2026-09-15/
CATEGORIES:Members Calendar
END:VEVENT
BEGIN:VEVENT
DTSTART;TZID=America/New_York:20260922T083000
DTEND;TZID=America/New_York:20260922T110000
DTSTAMP:20260423T045242
CREATED:20260324T132613Z
LAST-MODIFIED:20260409T163606Z
UID:10000282-1790065800-1790074800@www.ibislandinggc.com
SUMMARY:9-hole Ladies Social League
DESCRIPTION:
URL:https://www.ibislandinggc.com/event/9-hole-ladies-social-league/2026-09-22/
CATEGORIES:Members Calendar
END:VEVENT
BEGIN:VEVENT
DTSTART;TZID=America/New_York:20260929T083000
DTEND;TZID=America/New_York:20260929T110000
DTSTAMP:20260423T045242
CREATED:20260324T132613Z
LAST-MODIFIED:20260409T163606Z
UID:10000283-1790670600-1790679600@www.ibislandinggc.com
SUMMARY:9-hole Ladies Social League
DESCRIPTION:
URL:https://www.ibislandinggc.com/event/9-hole-ladies-social-league/2026-09-29/
CATEGORIES:Members Calendar
END:VEVENT
BEGIN:VEVENT
DTSTART;TZID=America/New_York:20261006T083000
DTEND;TZID=America/New_York:20261006T110000
DTSTAMP:20260423T045242
CREATED:20260324T132613Z
LAST-MODIFIED:20260409T163606Z
UID:10000284-1791275400-1791284400@www.ibislandinggc.com
SUMMARY:9-hole Ladies Social League
DESCRIPTION:
URL:https://www.ibislandinggc.com/event/9-hole-ladies-social-league/2026-10-06/
CATEGORIES:Members Calendar
END:VEVENT
BEGIN:VEVENT
DTSTART;TZID=America/New_York:20261013T083000
DTEND;TZID=America/New_York:20261013T110000
DTSTAMP:20260423T045242
CREATED:20260324T132613Z
LAST-MODIFIED:20260409T163606Z
UID:10000285-1791880200-1791889200@www.ibislandinggc.com
SUMMARY:9-hole Ladies Social League
DESCRIPTION:
URL:https://www.ibislandinggc.com/event/9-hole-ladies-social-league/2026-10-13/
CATEGORIES:Members Calendar
END:VEVENT
END:VCALENDAR