BEGIN:VCALENDAR
VERSION:2.0
PRODID:-//Ibis Landing Golf Club - ECPv6.15.18//NONSGML v1.0//EN
CALSCALE:GREGORIAN
METHOD:PUBLISH
X-WR-CALNAME:Ibis Landing Golf Club
X-ORIGINAL-URL:https://www.ibislandinggc.com
X-WR-CALDESC:Events for Ibis Landing Golf Club
REFRESH-INTERVAL;VALUE=DURATION:PT1H
X-Robots-Tag:noindex
X-PUBLISHED-TTL:PT1H
BEGIN:VTIMEZONE
TZID:America/New_York
BEGIN:DAYLIGHT
TZOFFSETFROM:-0500
TZOFFSETTO:-0400
TZNAME:EDT
DTSTART:20250309T070000
END:DAYLIGHT
BEGIN:STANDARD
TZOFFSETFROM:-0400
TZOFFSETTO:-0500
TZNAME:EST
DTSTART:20251102T060000
END:STANDARD
BEGIN:DAYLIGHT
TZOFFSETFROM:-0500
TZOFFSETTO:-0400
TZNAME:EDT
DTSTART:20260308T070000
END:DAYLIGHT
BEGIN:STANDARD
TZOFFSETFROM:-0400
TZOFFSETTO:-0500
TZNAME:EST
DTSTART:20261101T060000
END:STANDARD
BEGIN:DAYLIGHT
TZOFFSETFROM:-0500
TZOFFSETTO:-0400
TZNAME:EDT
DTSTART:20270314T070000
END:DAYLIGHT
BEGIN:STANDARD
TZOFFSETFROM:-0400
TZOFFSETTO:-0500
TZNAME:EST
DTSTART:20271107T060000
END:STANDARD
END:VTIMEZONE
BEGIN:VEVENT
DTSTART;TZID=America/New_York:20260422T083000
DTEND;TZID=America/New_York:20260422T130000
DTSTAMP:20260421T060010
CREATED:20260324T132658Z
LAST-MODIFIED:20260324T132658Z
UID:10000192-1776846600-1776862800@www.ibislandinggc.com
SUMMARY:Men's League
DESCRIPTION:
URL:https://www.ibislandinggc.com/event/mens-league/2026-04-22/
CATEGORIES:Members Calendar
END:VEVENT
BEGIN:VEVENT
DTSTART;TZID=America/New_York:20260429T083000
DTEND;TZID=America/New_York:20260429T130000
DTSTAMP:20260421T060010
CREATED:20260324T132658Z
LAST-MODIFIED:20260324T132658Z
UID:10000193-1777451400-1777467600@www.ibislandinggc.com
SUMMARY:Men's League
DESCRIPTION:
URL:https://www.ibislandinggc.com/event/mens-league/2026-04-29/
CATEGORIES:Members Calendar
END:VEVENT
BEGIN:VEVENT
DTSTART;TZID=America/New_York:20260506T083000
DTEND;TZID=America/New_York:20260506T130000
DTSTAMP:20260421T060010
CREATED:20260324T132658Z
LAST-MODIFIED:20260324T132658Z
UID:10000194-1778056200-1778072400@www.ibislandinggc.com
SUMMARY:Men's League
DESCRIPTION:
URL:https://www.ibislandinggc.com/event/mens-league/2026-05-06/
CATEGORIES:Members Calendar
END:VEVENT
BEGIN:VEVENT
DTSTART;TZID=America/New_York:20260513T083000
DTEND;TZID=America/New_York:20260513T130000
DTSTAMP:20260421T060010
CREATED:20260324T132658Z
LAST-MODIFIED:20260324T132658Z
UID:10000195-1778661000-1778677200@www.ibislandinggc.com
SUMMARY:Men's League
DESCRIPTION:
URL:https://www.ibislandinggc.com/event/mens-league/2026-05-13/
CATEGORIES:Members Calendar
END:VEVENT
BEGIN:VEVENT
DTSTART;TZID=America/New_York:20260520T083000
DTEND;TZID=America/New_York:20260520T130000
DTSTAMP:20260421T060010
CREATED:20260324T132658Z
LAST-MODIFIED:20260324T132658Z
UID:10000196-1779265800-1779282000@www.ibislandinggc.com
SUMMARY:Men's League
DESCRIPTION:
URL:https://www.ibislandinggc.com/event/mens-league/2026-05-20/
CATEGORIES:Members Calendar
END:VEVENT
BEGIN:VEVENT
DTSTART;TZID=America/New_York:20260527T083000
DTEND;TZID=America/New_York:20260527T130000
DTSTAMP:20260421T060010
CREATED:20260324T132658Z
LAST-MODIFIED:20260324T132658Z
UID:10000197-1779870600-1779886800@www.ibislandinggc.com
SUMMARY:Men's League
DESCRIPTION:
URL:https://www.ibislandinggc.com/event/mens-league/2026-05-27/
CATEGORIES:Members Calendar
END:VEVENT
BEGIN:VEVENT
DTSTART;TZID=America/New_York:20260603T083000
DTEND;TZID=America/New_York:20260603T130000
DTSTAMP:20260421T060010
CREATED:20260324T132658Z
LAST-MODIFIED:20260324T132658Z
UID:10000198-1780475400-1780491600@www.ibislandinggc.com
SUMMARY:Men's League
DESCRIPTION:
URL:https://www.ibislandinggc.com/event/mens-league/2026-06-03/
CATEGORIES:Members Calendar
END:VEVENT
BEGIN:VEVENT
DTSTART;TZID=America/New_York:20260610T083000
DTEND;TZID=America/New_York:20260610T130000
DTSTAMP:20260421T060010
CREATED:20260324T132658Z
LAST-MODIFIED:20260324T132658Z
UID:10000199-1781080200-1781096400@www.ibislandinggc.com
SUMMARY:Men's League
DESCRIPTION:
URL:https://www.ibislandinggc.com/event/mens-league/2026-06-10/
CATEGORIES:Members Calendar
END:VEVENT
BEGIN:VEVENT
DTSTART;TZID=America/New_York:20260617T083000
DTEND;TZID=America/New_York:20260617T130000
DTSTAMP:20260421T060010
CREATED:20260324T132658Z
LAST-MODIFIED:20260324T132658Z
UID:10000200-1781685000-1781701200@www.ibislandinggc.com
SUMMARY:Men's League
DESCRIPTION:
URL:https://www.ibislandinggc.com/event/mens-league/2026-06-17/
CATEGORIES:Members Calendar
END:VEVENT
BEGIN:VEVENT
DTSTART;TZID=America/New_York:20260624T083000
DTEND;TZID=America/New_York:20260624T130000
DTSTAMP:20260421T060010
CREATED:20260324T132658Z
LAST-MODIFIED:20260324T132658Z
UID:10000201-1782289800-1782306000@www.ibislandinggc.com
SUMMARY:Men's League
DESCRIPTION:
URL:https://www.ibislandinggc.com/event/mens-league/2026-06-24/
CATEGORIES:Members Calendar
END:VEVENT
BEGIN:VEVENT
DTSTART;TZID=America/New_York:20260701T083000
DTEND;TZID=America/New_York:20260701T130000
DTSTAMP:20260421T060010
CREATED:20260324T132658Z
LAST-MODIFIED:20260324T132658Z
UID:10000202-1782894600-1782910800@www.ibislandinggc.com
SUMMARY:Men's League
DESCRIPTION:
URL:https://www.ibislandinggc.com/event/mens-league/2026-07-01/
CATEGORIES:Members Calendar
END:VEVENT
BEGIN:VEVENT
DTSTART;TZID=America/New_York:20260708T083000
DTEND;TZID=America/New_York:20260708T130000
DTSTAMP:20260421T060010
CREATED:20260324T132658Z
LAST-MODIFIED:20260324T132658Z
UID:10000203-1783499400-1783515600@www.ibislandinggc.com
SUMMARY:Men's League
DESCRIPTION:
URL:https://www.ibislandinggc.com/event/mens-league/2026-07-08/
CATEGORIES:Members Calendar
END:VEVENT
BEGIN:VEVENT
DTSTART;TZID=America/New_York:20260715T083000
DTEND;TZID=America/New_York:20260715T130000
DTSTAMP:20260421T060010
CREATED:20260324T132658Z
LAST-MODIFIED:20260324T132658Z
UID:10000204-1784104200-1784120400@www.ibislandinggc.com
SUMMARY:Men's League
DESCRIPTION:
URL:https://www.ibislandinggc.com/event/mens-league/2026-07-15/
CATEGORIES:Members Calendar
END:VEVENT
BEGIN:VEVENT
DTSTART;TZID=America/New_York:20260722T083000
DTEND;TZID=America/New_York:20260722T130000
DTSTAMP:20260421T060010
CREATED:20260324T132658Z
LAST-MODIFIED:20260324T132658Z
UID:10000205-1784709000-1784725200@www.ibislandinggc.com
SUMMARY:Men's League
DESCRIPTION:
URL:https://www.ibislandinggc.com/event/mens-league/2026-07-22/
CATEGORIES:Members Calendar
END:VEVENT
BEGIN:VEVENT
DTSTART;TZID=America/New_York:20260729T083000
DTEND;TZID=America/New_York:20260729T130000
DTSTAMP:20260421T060010
CREATED:20260324T132658Z
LAST-MODIFIED:20260324T132658Z
UID:10000206-1785313800-1785330000@www.ibislandinggc.com
SUMMARY:Men's League
DESCRIPTION:
URL:https://www.ibislandinggc.com/event/mens-league/2026-07-29/
CATEGORIES:Members Calendar
END:VEVENT
BEGIN:VEVENT
DTSTART;TZID=America/New_York:20260805T083000
DTEND;TZID=America/New_York:20260805T130000
DTSTAMP:20260421T060010
CREATED:20260324T132658Z
LAST-MODIFIED:20260324T132658Z
UID:10000207-1785918600-1785934800@www.ibislandinggc.com
SUMMARY:Men's League
DESCRIPTION:
URL:https://www.ibislandinggc.com/event/mens-league/2026-08-05/
CATEGORIES:Members Calendar
END:VEVENT
BEGIN:VEVENT
DTSTART;TZID=America/New_York:20260812T083000
DTEND;TZID=America/New_York:20260812T130000
DTSTAMP:20260421T060010
CREATED:20260324T132658Z
LAST-MODIFIED:20260324T132658Z
UID:10000208-1786523400-1786539600@www.ibislandinggc.com
SUMMARY:Men's League
DESCRIPTION:
URL:https://www.ibislandinggc.com/event/mens-league/2026-08-12/
CATEGORIES:Members Calendar
END:VEVENT
BEGIN:VEVENT
DTSTART;TZID=America/New_York:20260819T083000
DTEND;TZID=America/New_York:20260819T130000
DTSTAMP:20260421T060010
CREATED:20260324T132658Z
LAST-MODIFIED:20260324T132658Z
UID:10000209-1787128200-1787144400@www.ibislandinggc.com
SUMMARY:Men's League
DESCRIPTION:
URL:https://www.ibislandinggc.com/event/mens-league/2026-08-19/
CATEGORIES:Members Calendar
END:VEVENT
BEGIN:VEVENT
DTSTART;TZID=America/New_York:20260826T083000
DTEND;TZID=America/New_York:20260826T130000
DTSTAMP:20260421T060010
CREATED:20260324T132658Z
LAST-MODIFIED:20260324T132658Z
UID:10000210-1787733000-1787749200@www.ibislandinggc.com
SUMMARY:Men's League
DESCRIPTION:
URL:https://www.ibislandinggc.com/event/mens-league/2026-08-26/
CATEGORIES:Members Calendar
END:VEVENT
BEGIN:VEVENT
DTSTART;TZID=America/New_York:20260902T083000
DTEND;TZID=America/New_York:20260902T130000
DTSTAMP:20260421T060010
CREATED:20260324T132658Z
LAST-MODIFIED:20260324T132658Z
UID:10000211-1788337800-1788354000@www.ibislandinggc.com
SUMMARY:Men's League
DESCRIPTION:
URL:https://www.ibislandinggc.com/event/mens-league/2026-09-02/
CATEGORIES:Members Calendar
END:VEVENT
BEGIN:VEVENT
DTSTART;TZID=America/New_York:20260909T083000
DTEND;TZID=America/New_York:20260909T130000
DTSTAMP:20260421T060010
CREATED:20260324T132658Z
LAST-MODIFIED:20260324T132658Z
UID:10000212-1788942600-1788958800@www.ibislandinggc.com
SUMMARY:Men's League
DESCRIPTION:
URL:https://www.ibislandinggc.com/event/mens-league/2026-09-09/
CATEGORIES:Members Calendar
END:VEVENT
BEGIN:VEVENT
DTSTART;TZID=America/New_York:20260916T083000
DTEND;TZID=America/New_York:20260916T130000
DTSTAMP:20260421T060010
CREATED:20260324T132658Z
LAST-MODIFIED:20260324T132658Z
UID:10000213-1789547400-1789563600@www.ibislandinggc.com
SUMMARY:Men's League
DESCRIPTION:
URL:https://www.ibislandinggc.com/event/mens-league/2026-09-16/
CATEGORIES:Members Calendar
END:VEVENT
BEGIN:VEVENT
DTSTART;TZID=America/New_York:20260923T083000
DTEND;TZID=America/New_York:20260923T130000
DTSTAMP:20260421T060010
CREATED:20260324T132658Z
LAST-MODIFIED:20260324T132658Z
UID:10000214-1790152200-1790168400@www.ibislandinggc.com
SUMMARY:Men's League
DESCRIPTION:
URL:https://www.ibislandinggc.com/event/mens-league/2026-09-23/
CATEGORIES:Members Calendar
END:VEVENT
BEGIN:VEVENT
DTSTART;TZID=America/New_York:20260930T083000
DTEND;TZID=America/New_York:20260930T130000
DTSTAMP:20260421T060010
CREATED:20260324T132658Z
LAST-MODIFIED:20260324T132658Z
UID:10000215-1790757000-1790773200@www.ibislandinggc.com
SUMMARY:Men's League
DESCRIPTION:
URL:https://www.ibislandinggc.com/event/mens-league/2026-09-30/
CATEGORIES:Members Calendar
END:VEVENT
BEGIN:VEVENT
DTSTART;TZID=America/New_York:20261007T083000
DTEND;TZID=America/New_York:20261007T130000
DTSTAMP:20260421T060010
CREATED:20260324T132658Z
LAST-MODIFIED:20260324T132658Z
UID:10000216-1791361800-1791378000@www.ibislandinggc.com
SUMMARY:Men's League
DESCRIPTION:
URL:https://www.ibislandinggc.com/event/mens-league/2026-10-07/
CATEGORIES:Members Calendar
END:VEVENT
BEGIN:VEVENT
DTSTART;TZID=America/New_York:20261014T083000
DTEND;TZID=America/New_York:20261014T130000
DTSTAMP:20260421T060010
CREATED:20260324T132658Z
LAST-MODIFIED:20260324T132658Z
UID:10000217-1791966600-1791982800@www.ibislandinggc.com
SUMMARY:Men's League
DESCRIPTION:
URL:https://www.ibislandinggc.com/event/mens-league/2026-10-14/
CATEGORIES:Members Calendar
END:VEVENT
END:VCALENDAR